BEGIN:VCALENDAR
VERSION:2.0
PRODID:-//Prevent Substance Misuse - ECPv6.2.2//NONSGML v1.0//EN
CALSCALE:GREGORIAN
METHOD:PUBLISH
X-ORIGINAL-URL:https://preventsubstancemisuse.org
X-WR-CALDESC:Events for Prevent Substance Misuse
REFRESH-INTERVAL;VALUE=DURATION:PT1H
X-Robots-Tag:noindex
X-PUBLISHED-TTL:PT1H
BEGIN:VTIMEZONE
TZID:America/New_York
BEGIN:DAYLIGHT
TZOFFSETFROM:-0500
TZOFFSETTO:-0400
TZNAME:EDT
DTSTART:20190310T070000
END:DAYLIGHT
BEGIN:STANDARD
TZOFFSETFROM:-0400
TZOFFSETTO:-0500
TZNAME:EST
DTSTART:20191103T060000
END:STANDARD
END:VTIMEZONE
BEGIN:VEVENT
DTSTART;TZID=America/New_York:20190627T073000
DTEND;TZID=America/New_York:20190627T160000
DTSTAMP:20260421T091727
CREATED:20190531T213131Z
LAST-MODIFIED:20190531T213131Z
UID:10002298-1561620600-1561651200@preventsubstancemisuse.org
SUMMARY:Symposium on Addiction & Recovery
DESCRIPTION:
URL:https://preventsubstancemisuse.org/event/symposium-on-addiction-recovery/
LOCATION:Bel Air High School\, 100 Heighe St\, Bel Air\, MD\, 21014\, United States
CATEGORIES:County-Wide
ATTACH;FMTTYPE=image/jpeg:https://preventsubstancemisuse.org/wp-content/uploads/2019/05/June-27-2019-Beautiful-Boy-Bel-Air-Addiction-Recovery-Symposium-Flyer.jpg
GEO:39.5313883;-76.3476288
X-APPLE-STRUCTURED-LOCATION;VALUE=URI;X-ADDRESS=Bel Air High School 100 Heighe St Bel Air MD 21014 United States;X-APPLE-RADIUS=500;X-TITLE=100 Heighe St:geo:-76.3476288,39.5313883
END:VEVENT
BEGIN:VEVENT
DTSTART;TZID=America/New_York:20190629T120000
DTEND;TZID=America/New_York:20190629T160000
DTSTAMP:20260421T091727
CREATED:20190531T213428Z
LAST-MODIFIED:20190531T213428Z
UID:10002299-1561809600-1561824000@preventsubstancemisuse.org
SUMMARY:Annual Youth Symposium “Unmasking My Truth”
DESCRIPTION:
URL:https://preventsubstancemisuse.org/event/annual-youth-symposium-unmasking-my-truth/
LOCATION:Truxtun Park\, 273 Hilltop Ln\, Annapolis\, MD\, 21403\, United States
CATEGORIES:ASAP / Annapolis
ATTACH;FMTTYPE=image/jpeg:https://preventsubstancemisuse.org/wp-content/uploads/2019/05/June-29-2019-H2O-4-Life-Youth-Symposium.jpg
GEO:38.9633459;-76.5051998
X-APPLE-STRUCTURED-LOCATION;VALUE=URI;X-ADDRESS=Truxtun Park 273 Hilltop Ln Annapolis MD 21403 United States;X-APPLE-RADIUS=500;X-TITLE=273 Hilltop Ln:geo:-76.5051998,38.9633459
END:VEVENT
END:VCALENDAR