BEGIN:VCALENDAR
VERSION:2.0
PRODID:-//Prevent Substance Misuse - ECPv6.2.2//NONSGML v1.0//EN
CALSCALE:GREGORIAN
METHOD:PUBLISH
X-ORIGINAL-URL:https://preventsubstancemisuse.org
X-WR-CALDESC:Events for Prevent Substance Misuse
REFRESH-INTERVAL;VALUE=DURATION:PT1H
X-Robots-Tag:noindex
X-PUBLISHED-TTL:PT1H
BEGIN:VTIMEZONE
TZID:America/New_York
BEGIN:DAYLIGHT
TZOFFSETFROM:-0500
TZOFFSETTO:-0400
TZNAME:EDT
DTSTART:20260308T070000
END:DAYLIGHT
BEGIN:STANDARD
TZOFFSETFROM:-0400
TZOFFSETTO:-0500
TZNAME:EST
DTSTART:20261101T060000
END:STANDARD
BEGIN:DAYLIGHT
TZOFFSETFROM:-0500
TZOFFSETTO:-0400
TZNAME:EDT
DTSTART:20270314T070000
END:DAYLIGHT
BEGIN:STANDARD
TZOFFSETFROM:-0400
TZOFFSETTO:-0500
TZNAME:EST
DTSTART:20271107T060000
END:STANDARD
BEGIN:DAYLIGHT
TZOFFSETFROM:-0500
TZOFFSETTO:-0400
TZNAME:EDT
DTSTART:20280312T070000
END:DAYLIGHT
BEGIN:STANDARD
TZOFFSETFROM:-0400
TZOFFSETTO:-0500
TZNAME:EST
DTSTART:20281105T060000
END:STANDARD
END:VTIMEZONE
BEGIN:VEVENT
DTSTART;TZID=America/New_York:20260421T120000
DTEND;TZID=America/New_York:20260421T133000
DTSTAMP:20260420T033216
CREATED:20231017T191013Z
LAST-MODIFIED:20231017T191014Z
UID:10004372-1776772800-1776778200@preventsubstancemisuse.org
SUMMARY:ASAP Coalition Meeting
DESCRIPTION:Lunch included
URL:https://preventsubstancemisuse.org/event/asap-coalition-meeting-2/2026-04-21/
LOCATION:Annapolis Police Department\, 199 Taylor Ave\, Annapolis\, Maryland\, 21401\, United States
CATEGORIES:ASAP / Annapolis
GEO:38.979072;-76.5064138
X-APPLE-STRUCTURED-LOCATION;VALUE=URI;X-ADDRESS=Annapolis Police Department 199 Taylor Ave Annapolis Maryland 21401 United States;X-APPLE-RADIUS=500;X-TITLE=199 Taylor Ave:geo:-76.5064138,38.979072
END:VEVENT
BEGIN:VEVENT
DTSTART;TZID=America/New_York:20260519T120000
DTEND;TZID=America/New_York:20260519T133000
DTSTAMP:20260420T033216
CREATED:20231017T191013Z
LAST-MODIFIED:20231017T191014Z
UID:10004373-1779192000-1779197400@preventsubstancemisuse.org
SUMMARY:ASAP Coalition Meeting
DESCRIPTION:Lunch included
URL:https://preventsubstancemisuse.org/event/asap-coalition-meeting-2/2026-05-19/
LOCATION:Annapolis Police Department\, 199 Taylor Ave\, Annapolis\, Maryland\, 21401\, United States
CATEGORIES:ASAP / Annapolis
GEO:38.979072;-76.5064138
X-APPLE-STRUCTURED-LOCATION;VALUE=URI;X-ADDRESS=Annapolis Police Department 199 Taylor Ave Annapolis Maryland 21401 United States;X-APPLE-RADIUS=500;X-TITLE=199 Taylor Ave:geo:-76.5064138,38.979072
END:VEVENT
BEGIN:VEVENT
DTSTART;TZID=America/New_York:20260616T120000
DTEND;TZID=America/New_York:20260616T133000
DTSTAMP:20260420T033216
CREATED:20231017T191013Z
LAST-MODIFIED:20231017T191014Z
UID:10004374-1781611200-1781616600@preventsubstancemisuse.org
SUMMARY:ASAP Coalition Meeting
DESCRIPTION:Lunch included
URL:https://preventsubstancemisuse.org/event/asap-coalition-meeting-2/2026-06-16/
LOCATION:Annapolis Police Department\, 199 Taylor Ave\, Annapolis\, Maryland\, 21401\, United States
CATEGORIES:ASAP / Annapolis
GEO:38.979072;-76.5064138
X-APPLE-STRUCTURED-LOCATION;VALUE=URI;X-ADDRESS=Annapolis Police Department 199 Taylor Ave Annapolis Maryland 21401 United States;X-APPLE-RADIUS=500;X-TITLE=199 Taylor Ave:geo:-76.5064138,38.979072
END:VEVENT
BEGIN:VEVENT
DTSTART;TZID=America/New_York:20260721T120000
DTEND;TZID=America/New_York:20260721T133000
DTSTAMP:20260420T033216
CREATED:20231017T191013Z
LAST-MODIFIED:20231017T191014Z
UID:10004375-1784635200-1784640600@preventsubstancemisuse.org
SUMMARY:ASAP Coalition Meeting
DESCRIPTION:Lunch included
URL:https://preventsubstancemisuse.org/event/asap-coalition-meeting-2/2026-07-21/
LOCATION:Annapolis Police Department\, 199 Taylor Ave\, Annapolis\, Maryland\, 21401\, United States
CATEGORIES:ASAP / Annapolis
GEO:38.979072;-76.5064138
X-APPLE-STRUCTURED-LOCATION;VALUE=URI;X-ADDRESS=Annapolis Police Department 199 Taylor Ave Annapolis Maryland 21401 United States;X-APPLE-RADIUS=500;X-TITLE=199 Taylor Ave:geo:-76.5064138,38.979072
END:VEVENT
BEGIN:VEVENT
DTSTART;TZID=America/New_York:20260818T120000
DTEND;TZID=America/New_York:20260818T133000
DTSTAMP:20260420T033216
CREATED:20231017T191013Z
LAST-MODIFIED:20231017T191014Z
UID:10004376-1787054400-1787059800@preventsubstancemisuse.org
SUMMARY:ASAP Coalition Meeting
DESCRIPTION:Lunch included
URL:https://preventsubstancemisuse.org/event/asap-coalition-meeting-2/2026-08-18/
LOCATION:Annapolis Police Department\, 199 Taylor Ave\, Annapolis\, Maryland\, 21401\, United States
CATEGORIES:ASAP / Annapolis
GEO:38.979072;-76.5064138
X-APPLE-STRUCTURED-LOCATION;VALUE=URI;X-ADDRESS=Annapolis Police Department 199 Taylor Ave Annapolis Maryland 21401 United States;X-APPLE-RADIUS=500;X-TITLE=199 Taylor Ave:geo:-76.5064138,38.979072
END:VEVENT
BEGIN:VEVENT
DTSTART;TZID=America/New_York:20260915T120000
DTEND;TZID=America/New_York:20260915T133000
DTSTAMP:20260420T033216
CREATED:20231017T191013Z
LAST-MODIFIED:20231017T191014Z
UID:10004377-1789473600-1789479000@preventsubstancemisuse.org
SUMMARY:ASAP Coalition Meeting
DESCRIPTION:Lunch included
URL:https://preventsubstancemisuse.org/event/asap-coalition-meeting-2/2026-09-15/
LOCATION:Annapolis Police Department\, 199 Taylor Ave\, Annapolis\, Maryland\, 21401\, United States
CATEGORIES:ASAP / Annapolis
GEO:38.979072;-76.5064138
X-APPLE-STRUCTURED-LOCATION;VALUE=URI;X-ADDRESS=Annapolis Police Department 199 Taylor Ave Annapolis Maryland 21401 United States;X-APPLE-RADIUS=500;X-TITLE=199 Taylor Ave:geo:-76.5064138,38.979072
END:VEVENT
BEGIN:VEVENT
DTSTART;TZID=America/New_York:20261020T120000
DTEND;TZID=America/New_York:20261020T133000
DTSTAMP:20260420T033216
CREATED:20231017T191013Z
LAST-MODIFIED:20231017T191014Z
UID:10004378-1792497600-1792503000@preventsubstancemisuse.org
SUMMARY:ASAP Coalition Meeting
DESCRIPTION:Lunch included
URL:https://preventsubstancemisuse.org/event/asap-coalition-meeting-2/2026-10-20/
LOCATION:Annapolis Police Department\, 199 Taylor Ave\, Annapolis\, Maryland\, 21401\, United States
CATEGORIES:ASAP / Annapolis
GEO:38.979072;-76.5064138
X-APPLE-STRUCTURED-LOCATION;VALUE=URI;X-ADDRESS=Annapolis Police Department 199 Taylor Ave Annapolis Maryland 21401 United States;X-APPLE-RADIUS=500;X-TITLE=199 Taylor Ave:geo:-76.5064138,38.979072
END:VEVENT
BEGIN:VEVENT
DTSTART;TZID=America/New_York:20261117T120000
DTEND;TZID=America/New_York:20261117T133000
DTSTAMP:20260420T033216
CREATED:20231017T191013Z
LAST-MODIFIED:20231017T191014Z
UID:10004379-1794916800-1794922200@preventsubstancemisuse.org
SUMMARY:ASAP Coalition Meeting
DESCRIPTION:Lunch included
URL:https://preventsubstancemisuse.org/event/asap-coalition-meeting-2/2026-11-17/
LOCATION:Annapolis Police Department\, 199 Taylor Ave\, Annapolis\, Maryland\, 21401\, United States
CATEGORIES:ASAP / Annapolis
GEO:38.979072;-76.5064138
X-APPLE-STRUCTURED-LOCATION;VALUE=URI;X-ADDRESS=Annapolis Police Department 199 Taylor Ave Annapolis Maryland 21401 United States;X-APPLE-RADIUS=500;X-TITLE=199 Taylor Ave:geo:-76.5064138,38.979072
END:VEVENT
BEGIN:VEVENT
DTSTART;TZID=America/New_York:20261215T120000
DTEND;TZID=America/New_York:20261215T133000
DTSTAMP:20260420T033216
CREATED:20231017T191013Z
LAST-MODIFIED:20231017T191014Z
UID:10004380-1797336000-1797341400@preventsubstancemisuse.org
SUMMARY:ASAP Coalition Meeting
DESCRIPTION:Lunch included
URL:https://preventsubstancemisuse.org/event/asap-coalition-meeting-2/2026-12-15/
LOCATION:Annapolis Police Department\, 199 Taylor Ave\, Annapolis\, Maryland\, 21401\, United States
CATEGORIES:ASAP / Annapolis
GEO:38.979072;-76.5064138
X-APPLE-STRUCTURED-LOCATION;VALUE=URI;X-ADDRESS=Annapolis Police Department 199 Taylor Ave Annapolis Maryland 21401 United States;X-APPLE-RADIUS=500;X-TITLE=199 Taylor Ave:geo:-76.5064138,38.979072
END:VEVENT
BEGIN:VEVENT
DTSTART;TZID=America/New_York:20270119T120000
DTEND;TZID=America/New_York:20270119T133000
DTSTAMP:20260420T033216
CREATED:20231017T191013Z
LAST-MODIFIED:20231017T191014Z
UID:10004381-1800360000-1800365400@preventsubstancemisuse.org
SUMMARY:ASAP Coalition Meeting
DESCRIPTION:Lunch included
URL:https://preventsubstancemisuse.org/event/asap-coalition-meeting-2/2027-01-19/
LOCATION:Annapolis Police Department\, 199 Taylor Ave\, Annapolis\, Maryland\, 21401\, United States
CATEGORIES:ASAP / Annapolis
GEO:38.979072;-76.5064138
X-APPLE-STRUCTURED-LOCATION;VALUE=URI;X-ADDRESS=Annapolis Police Department 199 Taylor Ave Annapolis Maryland 21401 United States;X-APPLE-RADIUS=500;X-TITLE=199 Taylor Ave:geo:-76.5064138,38.979072
END:VEVENT
BEGIN:VEVENT
DTSTART;TZID=America/New_York:20270216T120000
DTEND;TZID=America/New_York:20270216T133000
DTSTAMP:20260420T033216
CREATED:20231017T191013Z
LAST-MODIFIED:20231017T191014Z
UID:10004382-1802779200-1802784600@preventsubstancemisuse.org
SUMMARY:ASAP Coalition Meeting
DESCRIPTION:Lunch included
URL:https://preventsubstancemisuse.org/event/asap-coalition-meeting-2/2027-02-16/
LOCATION:Annapolis Police Department\, 199 Taylor Ave\, Annapolis\, Maryland\, 21401\, United States
CATEGORIES:ASAP / Annapolis
GEO:38.979072;-76.5064138
X-APPLE-STRUCTURED-LOCATION;VALUE=URI;X-ADDRESS=Annapolis Police Department 199 Taylor Ave Annapolis Maryland 21401 United States;X-APPLE-RADIUS=500;X-TITLE=199 Taylor Ave:geo:-76.5064138,38.979072
END:VEVENT
BEGIN:VEVENT
DTSTART;TZID=America/New_York:20270316T120000
DTEND;TZID=America/New_York:20270316T133000
DTSTAMP:20260420T033216
CREATED:20231017T191013Z
LAST-MODIFIED:20231017T191014Z
UID:10004383-1805198400-1805203800@preventsubstancemisuse.org
SUMMARY:ASAP Coalition Meeting
DESCRIPTION:Lunch included
URL:https://preventsubstancemisuse.org/event/asap-coalition-meeting-2/2027-03-16/
LOCATION:Annapolis Police Department\, 199 Taylor Ave\, Annapolis\, Maryland\, 21401\, United States
CATEGORIES:ASAP / Annapolis
GEO:38.979072;-76.5064138
X-APPLE-STRUCTURED-LOCATION;VALUE=URI;X-ADDRESS=Annapolis Police Department 199 Taylor Ave Annapolis Maryland 21401 United States;X-APPLE-RADIUS=500;X-TITLE=199 Taylor Ave:geo:-76.5064138,38.979072
END:VEVENT
BEGIN:VEVENT
DTSTART;TZID=America/New_York:20270420T120000
DTEND;TZID=America/New_York:20270420T133000
DTSTAMP:20260420T033216
CREATED:20231017T191013Z
LAST-MODIFIED:20231017T191014Z
UID:10004384-1808222400-1808227800@preventsubstancemisuse.org
SUMMARY:ASAP Coalition Meeting
DESCRIPTION:Lunch included
URL:https://preventsubstancemisuse.org/event/asap-coalition-meeting-2/2027-04-20/
LOCATION:Annapolis Police Department\, 199 Taylor Ave\, Annapolis\, Maryland\, 21401\, United States
CATEGORIES:ASAP / Annapolis
GEO:38.979072;-76.5064138
X-APPLE-STRUCTURED-LOCATION;VALUE=URI;X-ADDRESS=Annapolis Police Department 199 Taylor Ave Annapolis Maryland 21401 United States;X-APPLE-RADIUS=500;X-TITLE=199 Taylor Ave:geo:-76.5064138,38.979072
END:VEVENT
BEGIN:VEVENT
DTSTART;TZID=America/New_York:20270518T120000
DTEND;TZID=America/New_York:20270518T133000
DTSTAMP:20260420T033216
CREATED:20231017T191013Z
LAST-MODIFIED:20231017T191014Z
UID:10004385-1810641600-1810647000@preventsubstancemisuse.org
SUMMARY:ASAP Coalition Meeting
DESCRIPTION:Lunch included
URL:https://preventsubstancemisuse.org/event/asap-coalition-meeting-2/2027-05-18/
LOCATION:Annapolis Police Department\, 199 Taylor Ave\, Annapolis\, Maryland\, 21401\, United States
CATEGORIES:ASAP / Annapolis
GEO:38.979072;-76.5064138
X-APPLE-STRUCTURED-LOCATION;VALUE=URI;X-ADDRESS=Annapolis Police Department 199 Taylor Ave Annapolis Maryland 21401 United States;X-APPLE-RADIUS=500;X-TITLE=199 Taylor Ave:geo:-76.5064138,38.979072
END:VEVENT
BEGIN:VEVENT
DTSTART;TZID=America/New_York:20270615T120000
DTEND;TZID=America/New_York:20270615T133000
DTSTAMP:20260420T033216
CREATED:20231017T191013Z
LAST-MODIFIED:20231017T191014Z
UID:10004386-1813060800-1813066200@preventsubstancemisuse.org
SUMMARY:ASAP Coalition Meeting
DESCRIPTION:Lunch included
URL:https://preventsubstancemisuse.org/event/asap-coalition-meeting-2/2027-06-15/
LOCATION:Annapolis Police Department\, 199 Taylor Ave\, Annapolis\, Maryland\, 21401\, United States
CATEGORIES:ASAP / Annapolis
GEO:38.979072;-76.5064138
X-APPLE-STRUCTURED-LOCATION;VALUE=URI;X-ADDRESS=Annapolis Police Department 199 Taylor Ave Annapolis Maryland 21401 United States;X-APPLE-RADIUS=500;X-TITLE=199 Taylor Ave:geo:-76.5064138,38.979072
END:VEVENT
BEGIN:VEVENT
DTSTART;TZID=America/New_York:20270720T120000
DTEND;TZID=America/New_York:20270720T133000
DTSTAMP:20260420T033216
CREATED:20231017T191013Z
LAST-MODIFIED:20231017T191014Z
UID:10004387-1816084800-1816090200@preventsubstancemisuse.org
SUMMARY:ASAP Coalition Meeting
DESCRIPTION:Lunch included
URL:https://preventsubstancemisuse.org/event/asap-coalition-meeting-2/2027-07-20/
LOCATION:Annapolis Police Department\, 199 Taylor Ave\, Annapolis\, Maryland\, 21401\, United States
CATEGORIES:ASAP / Annapolis
GEO:38.979072;-76.5064138
X-APPLE-STRUCTURED-LOCATION;VALUE=URI;X-ADDRESS=Annapolis Police Department 199 Taylor Ave Annapolis Maryland 21401 United States;X-APPLE-RADIUS=500;X-TITLE=199 Taylor Ave:geo:-76.5064138,38.979072
END:VEVENT
BEGIN:VEVENT
DTSTART;TZID=America/New_York:20270817T120000
DTEND;TZID=America/New_York:20270817T133000
DTSTAMP:20260420T033216
CREATED:20231017T191013Z
LAST-MODIFIED:20231017T191014Z
UID:10004388-1818504000-1818509400@preventsubstancemisuse.org
SUMMARY:ASAP Coalition Meeting
DESCRIPTION:Lunch included
URL:https://preventsubstancemisuse.org/event/asap-coalition-meeting-2/2027-08-17/
LOCATION:Annapolis Police Department\, 199 Taylor Ave\, Annapolis\, Maryland\, 21401\, United States
CATEGORIES:ASAP / Annapolis
GEO:38.979072;-76.5064138
X-APPLE-STRUCTURED-LOCATION;VALUE=URI;X-ADDRESS=Annapolis Police Department 199 Taylor Ave Annapolis Maryland 21401 United States;X-APPLE-RADIUS=500;X-TITLE=199 Taylor Ave:geo:-76.5064138,38.979072
END:VEVENT
BEGIN:VEVENT
DTSTART;TZID=America/New_York:20270921T120000
DTEND;TZID=America/New_York:20270921T133000
DTSTAMP:20260420T033216
CREATED:20231017T191013Z
LAST-MODIFIED:20231017T191014Z
UID:10004389-1821528000-1821533400@preventsubstancemisuse.org
SUMMARY:ASAP Coalition Meeting
DESCRIPTION:Lunch included
URL:https://preventsubstancemisuse.org/event/asap-coalition-meeting-2/2027-09-21/
LOCATION:Annapolis Police Department\, 199 Taylor Ave\, Annapolis\, Maryland\, 21401\, United States
CATEGORIES:ASAP / Annapolis
GEO:38.979072;-76.5064138
X-APPLE-STRUCTURED-LOCATION;VALUE=URI;X-ADDRESS=Annapolis Police Department 199 Taylor Ave Annapolis Maryland 21401 United States;X-APPLE-RADIUS=500;X-TITLE=199 Taylor Ave:geo:-76.5064138,38.979072
END:VEVENT
BEGIN:VEVENT
DTSTART;TZID=America/New_York:20271019T120000
DTEND;TZID=America/New_York:20271019T133000
DTSTAMP:20260420T033216
CREATED:20231017T191013Z
LAST-MODIFIED:20231017T191014Z
UID:10004390-1823947200-1823952600@preventsubstancemisuse.org
SUMMARY:ASAP Coalition Meeting
DESCRIPTION:Lunch included
URL:https://preventsubstancemisuse.org/event/asap-coalition-meeting-2/2027-10-19/
LOCATION:Annapolis Police Department\, 199 Taylor Ave\, Annapolis\, Maryland\, 21401\, United States
CATEGORIES:ASAP / Annapolis
GEO:38.979072;-76.5064138
X-APPLE-STRUCTURED-LOCATION;VALUE=URI;X-ADDRESS=Annapolis Police Department 199 Taylor Ave Annapolis Maryland 21401 United States;X-APPLE-RADIUS=500;X-TITLE=199 Taylor Ave:geo:-76.5064138,38.979072
END:VEVENT
BEGIN:VEVENT
DTSTART;TZID=America/New_York:20271116T120000
DTEND;TZID=America/New_York:20271116T133000
DTSTAMP:20260420T033216
CREATED:20231017T191013Z
LAST-MODIFIED:20231017T191014Z
UID:10004391-1826366400-1826371800@preventsubstancemisuse.org
SUMMARY:ASAP Coalition Meeting
DESCRIPTION:Lunch included
URL:https://preventsubstancemisuse.org/event/asap-coalition-meeting-2/2027-11-16/
LOCATION:Annapolis Police Department\, 199 Taylor Ave\, Annapolis\, Maryland\, 21401\, United States
CATEGORIES:ASAP / Annapolis
GEO:38.979072;-76.5064138
X-APPLE-STRUCTURED-LOCATION;VALUE=URI;X-ADDRESS=Annapolis Police Department 199 Taylor Ave Annapolis Maryland 21401 United States;X-APPLE-RADIUS=500;X-TITLE=199 Taylor Ave:geo:-76.5064138,38.979072
END:VEVENT
BEGIN:VEVENT
DTSTART;TZID=America/New_York:20271221T120000
DTEND;TZID=America/New_York:20271221T133000
DTSTAMP:20260420T033216
CREATED:20231017T191013Z
LAST-MODIFIED:20231017T191014Z
UID:10004392-1829390400-1829395800@preventsubstancemisuse.org
SUMMARY:ASAP Coalition Meeting
DESCRIPTION:Lunch included
URL:https://preventsubstancemisuse.org/event/asap-coalition-meeting-2/2027-12-21/
LOCATION:Annapolis Police Department\, 199 Taylor Ave\, Annapolis\, Maryland\, 21401\, United States
CATEGORIES:ASAP / Annapolis
GEO:38.979072;-76.5064138
X-APPLE-STRUCTURED-LOCATION;VALUE=URI;X-ADDRESS=Annapolis Police Department 199 Taylor Ave Annapolis Maryland 21401 United States;X-APPLE-RADIUS=500;X-TITLE=199 Taylor Ave:geo:-76.5064138,38.979072
END:VEVENT
BEGIN:VEVENT
DTSTART;TZID=America/New_York:20280118T120000
DTEND;TZID=America/New_York:20280118T133000
DTSTAMP:20260420T033216
CREATED:20231017T191013Z
LAST-MODIFIED:20231017T191014Z
UID:10004393-1831809600-1831815000@preventsubstancemisuse.org
SUMMARY:ASAP Coalition Meeting
DESCRIPTION:Lunch included
URL:https://preventsubstancemisuse.org/event/asap-coalition-meeting-2/2028-01-18/
LOCATION:Annapolis Police Department\, 199 Taylor Ave\, Annapolis\, Maryland\, 21401\, United States
CATEGORIES:ASAP / Annapolis
GEO:38.979072;-76.5064138
X-APPLE-STRUCTURED-LOCATION;VALUE=URI;X-ADDRESS=Annapolis Police Department 199 Taylor Ave Annapolis Maryland 21401 United States;X-APPLE-RADIUS=500;X-TITLE=199 Taylor Ave:geo:-76.5064138,38.979072
END:VEVENT
BEGIN:VEVENT
DTSTART;TZID=America/New_York:20280215T120000
DTEND;TZID=America/New_York:20280215T133000
DTSTAMP:20260420T033216
CREATED:20231017T191013Z
LAST-MODIFIED:20231017T191014Z
UID:10004394-1834228800-1834234200@preventsubstancemisuse.org
SUMMARY:ASAP Coalition Meeting
DESCRIPTION:Lunch included
URL:https://preventsubstancemisuse.org/event/asap-coalition-meeting-2/2028-02-15/
LOCATION:Annapolis Police Department\, 199 Taylor Ave\, Annapolis\, Maryland\, 21401\, United States
CATEGORIES:ASAP / Annapolis
GEO:38.979072;-76.5064138
X-APPLE-STRUCTURED-LOCATION;VALUE=URI;X-ADDRESS=Annapolis Police Department 199 Taylor Ave Annapolis Maryland 21401 United States;X-APPLE-RADIUS=500;X-TITLE=199 Taylor Ave:geo:-76.5064138,38.979072
END:VEVENT
BEGIN:VEVENT
DTSTART;TZID=America/New_York:20280321T120000
DTEND;TZID=America/New_York:20280321T133000
DTSTAMP:20260420T033216
CREATED:20231017T191013Z
LAST-MODIFIED:20231017T191014Z
UID:10004395-1837252800-1837258200@preventsubstancemisuse.org
SUMMARY:ASAP Coalition Meeting
DESCRIPTION:Lunch included
URL:https://preventsubstancemisuse.org/event/asap-coalition-meeting-2/2028-03-21/
LOCATION:Annapolis Police Department\, 199 Taylor Ave\, Annapolis\, Maryland\, 21401\, United States
CATEGORIES:ASAP / Annapolis
GEO:38.979072;-76.5064138
X-APPLE-STRUCTURED-LOCATION;VALUE=URI;X-ADDRESS=Annapolis Police Department 199 Taylor Ave Annapolis Maryland 21401 United States;X-APPLE-RADIUS=500;X-TITLE=199 Taylor Ave:geo:-76.5064138,38.979072
END:VEVENT
BEGIN:VEVENT
DTSTART;TZID=America/New_York:20280418T120000
DTEND;TZID=America/New_York:20280418T133000
DTSTAMP:20260420T033216
CREATED:20231017T191013Z
LAST-MODIFIED:20231017T191014Z
UID:10004396-1839672000-1839677400@preventsubstancemisuse.org
SUMMARY:ASAP Coalition Meeting
DESCRIPTION:Lunch included
URL:https://preventsubstancemisuse.org/event/asap-coalition-meeting-2/2028-04-18/
LOCATION:Annapolis Police Department\, 199 Taylor Ave\, Annapolis\, Maryland\, 21401\, United States
CATEGORIES:ASAP / Annapolis
GEO:38.979072;-76.5064138
X-APPLE-STRUCTURED-LOCATION;VALUE=URI;X-ADDRESS=Annapolis Police Department 199 Taylor Ave Annapolis Maryland 21401 United States;X-APPLE-RADIUS=500;X-TITLE=199 Taylor Ave:geo:-76.5064138,38.979072
END:VEVENT
BEGIN:VEVENT
DTSTART;TZID=America/New_York:20280516T120000
DTEND;TZID=America/New_York:20280516T133000
DTSTAMP:20260420T033216
CREATED:20231017T191013Z
LAST-MODIFIED:20231017T191014Z
UID:10004397-1842091200-1842096600@preventsubstancemisuse.org
SUMMARY:ASAP Coalition Meeting
DESCRIPTION:Lunch included
URL:https://preventsubstancemisuse.org/event/asap-coalition-meeting-2/2028-05-16/
LOCATION:Annapolis Police Department\, 199 Taylor Ave\, Annapolis\, Maryland\, 21401\, United States
CATEGORIES:ASAP / Annapolis
GEO:38.979072;-76.5064138
X-APPLE-STRUCTURED-LOCATION;VALUE=URI;X-ADDRESS=Annapolis Police Department 199 Taylor Ave Annapolis Maryland 21401 United States;X-APPLE-RADIUS=500;X-TITLE=199 Taylor Ave:geo:-76.5064138,38.979072
END:VEVENT
BEGIN:VEVENT
DTSTART;TZID=America/New_York:20280620T120000
DTEND;TZID=America/New_York:20280620T133000
DTSTAMP:20260420T033216
CREATED:20231017T191013Z
LAST-MODIFIED:20231017T191014Z
UID:10004398-1845115200-1845120600@preventsubstancemisuse.org
SUMMARY:ASAP Coalition Meeting
DESCRIPTION:Lunch included
URL:https://preventsubstancemisuse.org/event/asap-coalition-meeting-2/2028-06-20/
LOCATION:Annapolis Police Department\, 199 Taylor Ave\, Annapolis\, Maryland\, 21401\, United States
CATEGORIES:ASAP / Annapolis
GEO:38.979072;-76.5064138
X-APPLE-STRUCTURED-LOCATION;VALUE=URI;X-ADDRESS=Annapolis Police Department 199 Taylor Ave Annapolis Maryland 21401 United States;X-APPLE-RADIUS=500;X-TITLE=199 Taylor Ave:geo:-76.5064138,38.979072
END:VEVENT
BEGIN:VEVENT
DTSTART;TZID=America/New_York:20280718T120000
DTEND;TZID=America/New_York:20280718T133000
DTSTAMP:20260420T033216
CREATED:20231017T191013Z
LAST-MODIFIED:20231017T191014Z
UID:10004399-1847534400-1847539800@preventsubstancemisuse.org
SUMMARY:ASAP Coalition Meeting
DESCRIPTION:Lunch included
URL:https://preventsubstancemisuse.org/event/asap-coalition-meeting-2/2028-07-18/
LOCATION:Annapolis Police Department\, 199 Taylor Ave\, Annapolis\, Maryland\, 21401\, United States
CATEGORIES:ASAP / Annapolis
GEO:38.979072;-76.5064138
X-APPLE-STRUCTURED-LOCATION;VALUE=URI;X-ADDRESS=Annapolis Police Department 199 Taylor Ave Annapolis Maryland 21401 United States;X-APPLE-RADIUS=500;X-TITLE=199 Taylor Ave:geo:-76.5064138,38.979072
END:VEVENT
BEGIN:VEVENT
DTSTART;TZID=America/New_York:20280815T120000
DTEND;TZID=America/New_York:20280815T133000
DTSTAMP:20260420T033216
CREATED:20231017T191013Z
LAST-MODIFIED:20231017T191014Z
UID:10004400-1849953600-1849959000@preventsubstancemisuse.org
SUMMARY:ASAP Coalition Meeting
DESCRIPTION:Lunch included
URL:https://preventsubstancemisuse.org/event/asap-coalition-meeting-2/2028-08-15/
LOCATION:Annapolis Police Department\, 199 Taylor Ave\, Annapolis\, Maryland\, 21401\, United States
CATEGORIES:ASAP / Annapolis
GEO:38.979072;-76.5064138
X-APPLE-STRUCTURED-LOCATION;VALUE=URI;X-ADDRESS=Annapolis Police Department 199 Taylor Ave Annapolis Maryland 21401 United States;X-APPLE-RADIUS=500;X-TITLE=199 Taylor Ave:geo:-76.5064138,38.979072
END:VEVENT
BEGIN:VEVENT
DTSTART;TZID=America/New_York:20280919T120000
DTEND;TZID=America/New_York:20280919T133000
DTSTAMP:20260420T033216
CREATED:20231017T191013Z
LAST-MODIFIED:20231017T191014Z
UID:10004401-1852977600-1852983000@preventsubstancemisuse.org
SUMMARY:ASAP Coalition Meeting
DESCRIPTION:Lunch included
URL:https://preventsubstancemisuse.org/event/asap-coalition-meeting-2/2028-09-19/
LOCATION:Annapolis Police Department\, 199 Taylor Ave\, Annapolis\, Maryland\, 21401\, United States
CATEGORIES:ASAP / Annapolis
GEO:38.979072;-76.5064138
X-APPLE-STRUCTURED-LOCATION;VALUE=URI;X-ADDRESS=Annapolis Police Department 199 Taylor Ave Annapolis Maryland 21401 United States;X-APPLE-RADIUS=500;X-TITLE=199 Taylor Ave:geo:-76.5064138,38.979072
END:VEVENT
END:VCALENDAR