BEGIN:VCALENDAR
VERSION:2.0
PRODID:-//Prevent Substance Misuse - ECPv6.2.2//NONSGML v1.0//EN
CALSCALE:GREGORIAN
METHOD:PUBLISH
X-WR-CALNAME:Prevent Substance Misuse
X-ORIGINAL-URL:https://preventsubstancemisuse.org
X-WR-CALDESC:Events for Prevent Substance Misuse
REFRESH-INTERVAL;VALUE=DURATION:PT1H
X-Robots-Tag:noindex
X-PUBLISHED-TTL:PT1H
BEGIN:VTIMEZONE
TZID:America/New_York
BEGIN:DAYLIGHT
TZOFFSETFROM:-0500
TZOFFSETTO:-0400
TZNAME:EDT
DTSTART:20260308T070000
END:DAYLIGHT
BEGIN:STANDARD
TZOFFSETFROM:-0400
TZOFFSETTO:-0500
TZNAME:EST
DTSTART:20261101T060000
END:STANDARD
BEGIN:DAYLIGHT
TZOFFSETFROM:-0500
TZOFFSETTO:-0400
TZNAME:EDT
DTSTART:20270314T070000
END:DAYLIGHT
BEGIN:STANDARD
TZOFFSETFROM:-0400
TZOFFSETTO:-0500
TZNAME:EST
DTSTART:20271107T060000
END:STANDARD
END:VTIMEZONE
BEGIN:VEVENT
DTSTART;TZID=America/New_York:20260520T100000
DTEND;TZID=America/New_York:20260520T120000
DTSTAMP:20260419T202043
CREATED:20191122T145805Z
LAST-MODIFIED:20191122T145922Z
UID:10003751-1779271200-1779278400@preventsubstancemisuse.org
SUMMARY:Loss of Life Partner/Spouse Monthly Group
DESCRIPTION:
URL:https://preventsubstancemisuse.org/event/loss-of-life-partner-spouse-monthly-group/2026-05-20/
LOCATION:Chesapeake Life Center – John & Cathy Belcher Campus\, 90 Ritchie Hwy\, Pasadena\, MD\, 21122\, United States
CATEGORIES:County-Wide
GEO:39.1038604;-76.573166
X-APPLE-STRUCTURED-LOCATION;VALUE=URI;X-ADDRESS=Chesapeake Life Center – John & Cathy Belcher Campus 90 Ritchie Hwy Pasadena MD 21122 United States;X-APPLE-RADIUS=500;X-TITLE=90 Ritchie Hwy:geo:-76.573166,39.1038604
END:VEVENT
BEGIN:VEVENT
DTSTART;TZID=America/New_York:20260520T183000
DTEND;TZID=America/New_York:20260520T200000
DTSTAMP:20260419T202044
CREATED:20230925T124544Z
LAST-MODIFIED:20230925T124544Z
UID:10003859-1779301800-1779307200@preventsubstancemisuse.org
SUMMARY:Loss of Life Partner/Spouse Monthly Group
DESCRIPTION:
URL:https://preventsubstancemisuse.org/event/loss-of-life-partner-spouse-monthly-group/2026-05-20/
LOCATION:Chesapeake Life Center – John & Cathy Belcher Campus\, 90 Ritchie Hwy\, Pasadena\, MD\, 21122\, United States
CATEGORIES:County-Wide
GEO:39.1038604;-76.573166
X-APPLE-STRUCTURED-LOCATION;VALUE=URI;X-ADDRESS=Chesapeake Life Center – John & Cathy Belcher Campus 90 Ritchie Hwy Pasadena MD 21122 United States;X-APPLE-RADIUS=500;X-TITLE=90 Ritchie Hwy:geo:-76.573166,39.1038604
END:VEVENT
BEGIN:VEVENT
DTSTART;TZID=America/New_York:20260617T100000
DTEND;TZID=America/New_York:20260617T120000
DTSTAMP:20260419T202044
CREATED:20191122T145805Z
LAST-MODIFIED:20191122T145922Z
UID:10003752-1781690400-1781697600@preventsubstancemisuse.org
SUMMARY:Loss of Life Partner/Spouse Monthly Group
DESCRIPTION:
URL:https://preventsubstancemisuse.org/event/loss-of-life-partner-spouse-monthly-group/2026-06-17/
LOCATION:Chesapeake Life Center – John & Cathy Belcher Campus\, 90 Ritchie Hwy\, Pasadena\, MD\, 21122\, United States
CATEGORIES:County-Wide
GEO:39.1038604;-76.573166
X-APPLE-STRUCTURED-LOCATION;VALUE=URI;X-ADDRESS=Chesapeake Life Center – John & Cathy Belcher Campus 90 Ritchie Hwy Pasadena MD 21122 United States;X-APPLE-RADIUS=500;X-TITLE=90 Ritchie Hwy:geo:-76.573166,39.1038604
END:VEVENT
BEGIN:VEVENT
DTSTART;TZID=America/New_York:20260617T183000
DTEND;TZID=America/New_York:20260617T200000
DTSTAMP:20260419T202044
CREATED:20230925T124544Z
LAST-MODIFIED:20230925T124544Z
UID:10003860-1781721000-1781726400@preventsubstancemisuse.org
SUMMARY:Loss of Life Partner/Spouse Monthly Group
DESCRIPTION:
URL:https://preventsubstancemisuse.org/event/loss-of-life-partner-spouse-monthly-group/2026-06-17/
LOCATION:Chesapeake Life Center – John & Cathy Belcher Campus\, 90 Ritchie Hwy\, Pasadena\, MD\, 21122\, United States
CATEGORIES:County-Wide
GEO:39.1038604;-76.573166
X-APPLE-STRUCTURED-LOCATION;VALUE=URI;X-ADDRESS=Chesapeake Life Center – John & Cathy Belcher Campus 90 Ritchie Hwy Pasadena MD 21122 United States;X-APPLE-RADIUS=500;X-TITLE=90 Ritchie Hwy:geo:-76.573166,39.1038604
END:VEVENT
BEGIN:VEVENT
DTSTART;TZID=America/New_York:20260715T100000
DTEND;TZID=America/New_York:20260715T120000
DTSTAMP:20260419T202044
CREATED:20191122T145805Z
LAST-MODIFIED:20191122T145922Z
UID:10003753-1784109600-1784116800@preventsubstancemisuse.org
SUMMARY:Loss of Life Partner/Spouse Monthly Group
DESCRIPTION:
URL:https://preventsubstancemisuse.org/event/loss-of-life-partner-spouse-monthly-group/2026-07-15/
LOCATION:Chesapeake Life Center – John & Cathy Belcher Campus\, 90 Ritchie Hwy\, Pasadena\, MD\, 21122\, United States
CATEGORIES:County-Wide
GEO:39.1038604;-76.573166
X-APPLE-STRUCTURED-LOCATION;VALUE=URI;X-ADDRESS=Chesapeake Life Center – John & Cathy Belcher Campus 90 Ritchie Hwy Pasadena MD 21122 United States;X-APPLE-RADIUS=500;X-TITLE=90 Ritchie Hwy:geo:-76.573166,39.1038604
END:VEVENT
BEGIN:VEVENT
DTSTART;TZID=America/New_York:20260715T183000
DTEND;TZID=America/New_York:20260715T200000
DTSTAMP:20260419T202044
CREATED:20230925T124544Z
LAST-MODIFIED:20230925T124544Z
UID:10003861-1784140200-1784145600@preventsubstancemisuse.org
SUMMARY:Loss of Life Partner/Spouse Monthly Group
DESCRIPTION:
URL:https://preventsubstancemisuse.org/event/loss-of-life-partner-spouse-monthly-group/2026-07-15/
LOCATION:Chesapeake Life Center – John & Cathy Belcher Campus\, 90 Ritchie Hwy\, Pasadena\, MD\, 21122\, United States
CATEGORIES:County-Wide
GEO:39.1038604;-76.573166
X-APPLE-STRUCTURED-LOCATION;VALUE=URI;X-ADDRESS=Chesapeake Life Center – John & Cathy Belcher Campus 90 Ritchie Hwy Pasadena MD 21122 United States;X-APPLE-RADIUS=500;X-TITLE=90 Ritchie Hwy:geo:-76.573166,39.1038604
END:VEVENT
BEGIN:VEVENT
DTSTART;TZID=America/New_York:20260819T100000
DTEND;TZID=America/New_York:20260819T120000
DTSTAMP:20260419T202044
CREATED:20191122T145805Z
LAST-MODIFIED:20191122T145922Z
UID:10003754-1787133600-1787140800@preventsubstancemisuse.org
SUMMARY:Loss of Life Partner/Spouse Monthly Group
DESCRIPTION:
URL:https://preventsubstancemisuse.org/event/loss-of-life-partner-spouse-monthly-group/2026-08-19/
LOCATION:Chesapeake Life Center – John & Cathy Belcher Campus\, 90 Ritchie Hwy\, Pasadena\, MD\, 21122\, United States
CATEGORIES:County-Wide
GEO:39.1038604;-76.573166
X-APPLE-STRUCTURED-LOCATION;VALUE=URI;X-ADDRESS=Chesapeake Life Center – John & Cathy Belcher Campus 90 Ritchie Hwy Pasadena MD 21122 United States;X-APPLE-RADIUS=500;X-TITLE=90 Ritchie Hwy:geo:-76.573166,39.1038604
END:VEVENT
BEGIN:VEVENT
DTSTART;TZID=America/New_York:20260819T183000
DTEND;TZID=America/New_York:20260819T200000
DTSTAMP:20260419T202044
CREATED:20230925T124544Z
LAST-MODIFIED:20230925T124544Z
UID:10003862-1787164200-1787169600@preventsubstancemisuse.org
SUMMARY:Loss of Life Partner/Spouse Monthly Group
DESCRIPTION:
URL:https://preventsubstancemisuse.org/event/loss-of-life-partner-spouse-monthly-group/2026-08-19/
LOCATION:Chesapeake Life Center – John & Cathy Belcher Campus\, 90 Ritchie Hwy\, Pasadena\, MD\, 21122\, United States
CATEGORIES:County-Wide
GEO:39.1038604;-76.573166
X-APPLE-STRUCTURED-LOCATION;VALUE=URI;X-ADDRESS=Chesapeake Life Center – John & Cathy Belcher Campus 90 Ritchie Hwy Pasadena MD 21122 United States;X-APPLE-RADIUS=500;X-TITLE=90 Ritchie Hwy:geo:-76.573166,39.1038604
END:VEVENT
BEGIN:VEVENT
DTSTART;TZID=America/New_York:20260916T100000
DTEND;TZID=America/New_York:20260916T120000
DTSTAMP:20260419T202044
CREATED:20191122T145805Z
LAST-MODIFIED:20191122T145922Z
UID:10003755-1789552800-1789560000@preventsubstancemisuse.org
SUMMARY:Loss of Life Partner/Spouse Monthly Group
DESCRIPTION:
URL:https://preventsubstancemisuse.org/event/loss-of-life-partner-spouse-monthly-group/2026-09-16/
LOCATION:Chesapeake Life Center – John & Cathy Belcher Campus\, 90 Ritchie Hwy\, Pasadena\, MD\, 21122\, United States
CATEGORIES:County-Wide
GEO:39.1038604;-76.573166
X-APPLE-STRUCTURED-LOCATION;VALUE=URI;X-ADDRESS=Chesapeake Life Center – John & Cathy Belcher Campus 90 Ritchie Hwy Pasadena MD 21122 United States;X-APPLE-RADIUS=500;X-TITLE=90 Ritchie Hwy:geo:-76.573166,39.1038604
END:VEVENT
BEGIN:VEVENT
DTSTART;TZID=America/New_York:20260916T183000
DTEND;TZID=America/New_York:20260916T200000
DTSTAMP:20260419T202044
CREATED:20230925T124544Z
LAST-MODIFIED:20230925T124544Z
UID:10003863-1789583400-1789588800@preventsubstancemisuse.org
SUMMARY:Loss of Life Partner/Spouse Monthly Group
DESCRIPTION:
URL:https://preventsubstancemisuse.org/event/loss-of-life-partner-spouse-monthly-group/2026-09-16/
LOCATION:Chesapeake Life Center – John & Cathy Belcher Campus\, 90 Ritchie Hwy\, Pasadena\, MD\, 21122\, United States
CATEGORIES:County-Wide
GEO:39.1038604;-76.573166
X-APPLE-STRUCTURED-LOCATION;VALUE=URI;X-ADDRESS=Chesapeake Life Center – John & Cathy Belcher Campus 90 Ritchie Hwy Pasadena MD 21122 United States;X-APPLE-RADIUS=500;X-TITLE=90 Ritchie Hwy:geo:-76.573166,39.1038604
END:VEVENT
BEGIN:VEVENT
DTSTART;TZID=America/New_York:20261021T100000
DTEND;TZID=America/New_York:20261021T120000
DTSTAMP:20260419T202044
CREATED:20191122T145805Z
LAST-MODIFIED:20191122T145922Z
UID:10003756-1792576800-1792584000@preventsubstancemisuse.org
SUMMARY:Loss of Life Partner/Spouse Monthly Group
DESCRIPTION:
URL:https://preventsubstancemisuse.org/event/loss-of-life-partner-spouse-monthly-group/2026-10-21/
LOCATION:Chesapeake Life Center – John & Cathy Belcher Campus\, 90 Ritchie Hwy\, Pasadena\, MD\, 21122\, United States
CATEGORIES:County-Wide
GEO:39.1038604;-76.573166
X-APPLE-STRUCTURED-LOCATION;VALUE=URI;X-ADDRESS=Chesapeake Life Center – John & Cathy Belcher Campus 90 Ritchie Hwy Pasadena MD 21122 United States;X-APPLE-RADIUS=500;X-TITLE=90 Ritchie Hwy:geo:-76.573166,39.1038604
END:VEVENT
BEGIN:VEVENT
DTSTART;TZID=America/New_York:20261021T183000
DTEND;TZID=America/New_York:20261021T200000
DTSTAMP:20260419T202044
CREATED:20230925T124544Z
LAST-MODIFIED:20230925T124544Z
UID:10003864-1792607400-1792612800@preventsubstancemisuse.org
SUMMARY:Loss of Life Partner/Spouse Monthly Group
DESCRIPTION:
URL:https://preventsubstancemisuse.org/event/loss-of-life-partner-spouse-monthly-group/2026-10-21/
LOCATION:Chesapeake Life Center – John & Cathy Belcher Campus\, 90 Ritchie Hwy\, Pasadena\, MD\, 21122\, United States
CATEGORIES:County-Wide
GEO:39.1038604;-76.573166
X-APPLE-STRUCTURED-LOCATION;VALUE=URI;X-ADDRESS=Chesapeake Life Center – John & Cathy Belcher Campus 90 Ritchie Hwy Pasadena MD 21122 United States;X-APPLE-RADIUS=500;X-TITLE=90 Ritchie Hwy:geo:-76.573166,39.1038604
END:VEVENT
BEGIN:VEVENT
DTSTART;TZID=America/New_York:20261118T100000
DTEND;TZID=America/New_York:20261118T120000
DTSTAMP:20260419T202044
CREATED:20191122T145805Z
LAST-MODIFIED:20191122T145922Z
UID:10003757-1794996000-1795003200@preventsubstancemisuse.org
SUMMARY:Loss of Life Partner/Spouse Monthly Group
DESCRIPTION:
URL:https://preventsubstancemisuse.org/event/loss-of-life-partner-spouse-monthly-group/2026-11-18/
LOCATION:Chesapeake Life Center – John & Cathy Belcher Campus\, 90 Ritchie Hwy\, Pasadena\, MD\, 21122\, United States
CATEGORIES:County-Wide
GEO:39.1038604;-76.573166
X-APPLE-STRUCTURED-LOCATION;VALUE=URI;X-ADDRESS=Chesapeake Life Center – John & Cathy Belcher Campus 90 Ritchie Hwy Pasadena MD 21122 United States;X-APPLE-RADIUS=500;X-TITLE=90 Ritchie Hwy:geo:-76.573166,39.1038604
END:VEVENT
BEGIN:VEVENT
DTSTART;TZID=America/New_York:20261118T183000
DTEND;TZID=America/New_York:20261118T200000
DTSTAMP:20260419T202044
CREATED:20230925T124544Z
LAST-MODIFIED:20230925T124544Z
UID:10003865-1795026600-1795032000@preventsubstancemisuse.org
SUMMARY:Loss of Life Partner/Spouse Monthly Group
DESCRIPTION:
URL:https://preventsubstancemisuse.org/event/loss-of-life-partner-spouse-monthly-group/2026-11-18/
LOCATION:Chesapeake Life Center – John & Cathy Belcher Campus\, 90 Ritchie Hwy\, Pasadena\, MD\, 21122\, United States
CATEGORIES:County-Wide
GEO:39.1038604;-76.573166
X-APPLE-STRUCTURED-LOCATION;VALUE=URI;X-ADDRESS=Chesapeake Life Center – John & Cathy Belcher Campus 90 Ritchie Hwy Pasadena MD 21122 United States;X-APPLE-RADIUS=500;X-TITLE=90 Ritchie Hwy:geo:-76.573166,39.1038604
END:VEVENT
BEGIN:VEVENT
DTSTART;TZID=America/New_York:20261216T100000
DTEND;TZID=America/New_York:20261216T120000
DTSTAMP:20260419T202044
CREATED:20191122T145805Z
LAST-MODIFIED:20191122T145922Z
UID:10003758-1797415200-1797422400@preventsubstancemisuse.org
SUMMARY:Loss of Life Partner/Spouse Monthly Group
DESCRIPTION:
URL:https://preventsubstancemisuse.org/event/loss-of-life-partner-spouse-monthly-group/2026-12-16/
LOCATION:Chesapeake Life Center – John & Cathy Belcher Campus\, 90 Ritchie Hwy\, Pasadena\, MD\, 21122\, United States
CATEGORIES:County-Wide
GEO:39.1038604;-76.573166
X-APPLE-STRUCTURED-LOCATION;VALUE=URI;X-ADDRESS=Chesapeake Life Center – John & Cathy Belcher Campus 90 Ritchie Hwy Pasadena MD 21122 United States;X-APPLE-RADIUS=500;X-TITLE=90 Ritchie Hwy:geo:-76.573166,39.1038604
END:VEVENT
BEGIN:VEVENT
DTSTART;TZID=America/New_York:20261216T183000
DTEND;TZID=America/New_York:20261216T200000
DTSTAMP:20260419T202044
CREATED:20230925T124544Z
LAST-MODIFIED:20230925T124544Z
UID:10003866-1797445800-1797451200@preventsubstancemisuse.org
SUMMARY:Loss of Life Partner/Spouse Monthly Group
DESCRIPTION:
URL:https://preventsubstancemisuse.org/event/loss-of-life-partner-spouse-monthly-group/2026-12-16/
LOCATION:Chesapeake Life Center – John & Cathy Belcher Campus\, 90 Ritchie Hwy\, Pasadena\, MD\, 21122\, United States
CATEGORIES:County-Wide
GEO:39.1038604;-76.573166
X-APPLE-STRUCTURED-LOCATION;VALUE=URI;X-ADDRESS=Chesapeake Life Center – John & Cathy Belcher Campus 90 Ritchie Hwy Pasadena MD 21122 United States;X-APPLE-RADIUS=500;X-TITLE=90 Ritchie Hwy:geo:-76.573166,39.1038604
END:VEVENT
BEGIN:VEVENT
DTSTART;TZID=America/New_York:20270120T100000
DTEND;TZID=America/New_York:20270120T120000
DTSTAMP:20260419T202044
CREATED:20191122T145805Z
LAST-MODIFIED:20191122T145922Z
UID:10003759-1800439200-1800446400@preventsubstancemisuse.org
SUMMARY:Loss of Life Partner/Spouse Monthly Group
DESCRIPTION:
URL:https://preventsubstancemisuse.org/event/loss-of-life-partner-spouse-monthly-group/2027-01-20/
LOCATION:Chesapeake Life Center – John & Cathy Belcher Campus\, 90 Ritchie Hwy\, Pasadena\, MD\, 21122\, United States
CATEGORIES:County-Wide
GEO:39.1038604;-76.573166
X-APPLE-STRUCTURED-LOCATION;VALUE=URI;X-ADDRESS=Chesapeake Life Center – John & Cathy Belcher Campus 90 Ritchie Hwy Pasadena MD 21122 United States;X-APPLE-RADIUS=500;X-TITLE=90 Ritchie Hwy:geo:-76.573166,39.1038604
END:VEVENT
BEGIN:VEVENT
DTSTART;TZID=America/New_York:20270120T183000
DTEND;TZID=America/New_York:20270120T200000
DTSTAMP:20260419T202044
CREATED:20230925T124544Z
LAST-MODIFIED:20230925T124544Z
UID:10003867-1800469800-1800475200@preventsubstancemisuse.org
SUMMARY:Loss of Life Partner/Spouse Monthly Group
DESCRIPTION:
URL:https://preventsubstancemisuse.org/event/loss-of-life-partner-spouse-monthly-group/2027-01-20/
LOCATION:Chesapeake Life Center – John & Cathy Belcher Campus\, 90 Ritchie Hwy\, Pasadena\, MD\, 21122\, United States
CATEGORIES:County-Wide
GEO:39.1038604;-76.573166
X-APPLE-STRUCTURED-LOCATION;VALUE=URI;X-ADDRESS=Chesapeake Life Center – John & Cathy Belcher Campus 90 Ritchie Hwy Pasadena MD 21122 United States;X-APPLE-RADIUS=500;X-TITLE=90 Ritchie Hwy:geo:-76.573166,39.1038604
END:VEVENT
BEGIN:VEVENT
DTSTART;TZID=America/New_York:20270217T100000
DTEND;TZID=America/New_York:20270217T120000
DTSTAMP:20260419T202044
CREATED:20191122T145805Z
LAST-MODIFIED:20191122T145922Z
UID:10003760-1802858400-1802865600@preventsubstancemisuse.org
SUMMARY:Loss of Life Partner/Spouse Monthly Group
DESCRIPTION:
URL:https://preventsubstancemisuse.org/event/loss-of-life-partner-spouse-monthly-group/2027-02-17/
LOCATION:Chesapeake Life Center – John & Cathy Belcher Campus\, 90 Ritchie Hwy\, Pasadena\, MD\, 21122\, United States
CATEGORIES:County-Wide
GEO:39.1038604;-76.573166
X-APPLE-STRUCTURED-LOCATION;VALUE=URI;X-ADDRESS=Chesapeake Life Center – John & Cathy Belcher Campus 90 Ritchie Hwy Pasadena MD 21122 United States;X-APPLE-RADIUS=500;X-TITLE=90 Ritchie Hwy:geo:-76.573166,39.1038604
END:VEVENT
BEGIN:VEVENT
DTSTART;TZID=America/New_York:20270217T183000
DTEND;TZID=America/New_York:20270217T200000
DTSTAMP:20260419T202044
CREATED:20230925T124544Z
LAST-MODIFIED:20230925T124544Z
UID:10003868-1802889000-1802894400@preventsubstancemisuse.org
SUMMARY:Loss of Life Partner/Spouse Monthly Group
DESCRIPTION:
URL:https://preventsubstancemisuse.org/event/loss-of-life-partner-spouse-monthly-group/2027-02-17/
LOCATION:Chesapeake Life Center – John & Cathy Belcher Campus\, 90 Ritchie Hwy\, Pasadena\, MD\, 21122\, United States
CATEGORIES:County-Wide
GEO:39.1038604;-76.573166
X-APPLE-STRUCTURED-LOCATION;VALUE=URI;X-ADDRESS=Chesapeake Life Center – John & Cathy Belcher Campus 90 Ritchie Hwy Pasadena MD 21122 United States;X-APPLE-RADIUS=500;X-TITLE=90 Ritchie Hwy:geo:-76.573166,39.1038604
END:VEVENT
BEGIN:VEVENT
DTSTART;TZID=America/New_York:20270317T100000
DTEND;TZID=America/New_York:20270317T120000
DTSTAMP:20260419T202044
CREATED:20191122T145805Z
LAST-MODIFIED:20191122T145922Z
UID:10003761-1805277600-1805284800@preventsubstancemisuse.org
SUMMARY:Loss of Life Partner/Spouse Monthly Group
DESCRIPTION:
URL:https://preventsubstancemisuse.org/event/loss-of-life-partner-spouse-monthly-group/2027-03-17/
LOCATION:Chesapeake Life Center – John & Cathy Belcher Campus\, 90 Ritchie Hwy\, Pasadena\, MD\, 21122\, United States
CATEGORIES:County-Wide
GEO:39.1038604;-76.573166
X-APPLE-STRUCTURED-LOCATION;VALUE=URI;X-ADDRESS=Chesapeake Life Center – John & Cathy Belcher Campus 90 Ritchie Hwy Pasadena MD 21122 United States;X-APPLE-RADIUS=500;X-TITLE=90 Ritchie Hwy:geo:-76.573166,39.1038604
END:VEVENT
BEGIN:VEVENT
DTSTART;TZID=America/New_York:20270317T183000
DTEND;TZID=America/New_York:20270317T200000
DTSTAMP:20260419T202044
CREATED:20230925T124544Z
LAST-MODIFIED:20230925T124544Z
UID:10003869-1805308200-1805313600@preventsubstancemisuse.org
SUMMARY:Loss of Life Partner/Spouse Monthly Group
DESCRIPTION:
URL:https://preventsubstancemisuse.org/event/loss-of-life-partner-spouse-monthly-group/2027-03-17/
LOCATION:Chesapeake Life Center – John & Cathy Belcher Campus\, 90 Ritchie Hwy\, Pasadena\, MD\, 21122\, United States
CATEGORIES:County-Wide
GEO:39.1038604;-76.573166
X-APPLE-STRUCTURED-LOCATION;VALUE=URI;X-ADDRESS=Chesapeake Life Center – John & Cathy Belcher Campus 90 Ritchie Hwy Pasadena MD 21122 United States;X-APPLE-RADIUS=500;X-TITLE=90 Ritchie Hwy:geo:-76.573166,39.1038604
END:VEVENT
BEGIN:VEVENT
DTSTART;TZID=America/New_York:20270421T100000
DTEND;TZID=America/New_York:20270421T120000
DTSTAMP:20260419T202044
CREATED:20191122T145805Z
LAST-MODIFIED:20191122T145922Z
UID:10003762-1808301600-1808308800@preventsubstancemisuse.org
SUMMARY:Loss of Life Partner/Spouse Monthly Group
DESCRIPTION:
URL:https://preventsubstancemisuse.org/event/loss-of-life-partner-spouse-monthly-group/2027-04-21/
LOCATION:Chesapeake Life Center – John & Cathy Belcher Campus\, 90 Ritchie Hwy\, Pasadena\, MD\, 21122\, United States
CATEGORIES:County-Wide
GEO:39.1038604;-76.573166
X-APPLE-STRUCTURED-LOCATION;VALUE=URI;X-ADDRESS=Chesapeake Life Center – John & Cathy Belcher Campus 90 Ritchie Hwy Pasadena MD 21122 United States;X-APPLE-RADIUS=500;X-TITLE=90 Ritchie Hwy:geo:-76.573166,39.1038604
END:VEVENT
BEGIN:VEVENT
DTSTART;TZID=America/New_York:20270421T183000
DTEND;TZID=America/New_York:20270421T200000
DTSTAMP:20260419T202044
CREATED:20230925T124544Z
LAST-MODIFIED:20230925T124544Z
UID:10003870-1808332200-1808337600@preventsubstancemisuse.org
SUMMARY:Loss of Life Partner/Spouse Monthly Group
DESCRIPTION:
URL:https://preventsubstancemisuse.org/event/loss-of-life-partner-spouse-monthly-group/2027-04-21/
LOCATION:Chesapeake Life Center – John & Cathy Belcher Campus\, 90 Ritchie Hwy\, Pasadena\, MD\, 21122\, United States
CATEGORIES:County-Wide
GEO:39.1038604;-76.573166
X-APPLE-STRUCTURED-LOCATION;VALUE=URI;X-ADDRESS=Chesapeake Life Center – John & Cathy Belcher Campus 90 Ritchie Hwy Pasadena MD 21122 United States;X-APPLE-RADIUS=500;X-TITLE=90 Ritchie Hwy:geo:-76.573166,39.1038604
END:VEVENT
BEGIN:VEVENT
DTSTART;TZID=America/New_York:20270519T100000
DTEND;TZID=America/New_York:20270519T120000
DTSTAMP:20260419T202044
CREATED:20191122T145805Z
LAST-MODIFIED:20191122T145922Z
UID:10003763-1810720800-1810728000@preventsubstancemisuse.org
SUMMARY:Loss of Life Partner/Spouse Monthly Group
DESCRIPTION:
URL:https://preventsubstancemisuse.org/event/loss-of-life-partner-spouse-monthly-group/2027-05-19/
LOCATION:Chesapeake Life Center – John & Cathy Belcher Campus\, 90 Ritchie Hwy\, Pasadena\, MD\, 21122\, United States
CATEGORIES:County-Wide
GEO:39.1038604;-76.573166
X-APPLE-STRUCTURED-LOCATION;VALUE=URI;X-ADDRESS=Chesapeake Life Center – John & Cathy Belcher Campus 90 Ritchie Hwy Pasadena MD 21122 United States;X-APPLE-RADIUS=500;X-TITLE=90 Ritchie Hwy:geo:-76.573166,39.1038604
END:VEVENT
BEGIN:VEVENT
DTSTART;TZID=America/New_York:20270519T183000
DTEND;TZID=America/New_York:20270519T200000
DTSTAMP:20260419T202044
CREATED:20230925T124544Z
LAST-MODIFIED:20230925T124544Z
UID:10003871-1810751400-1810756800@preventsubstancemisuse.org
SUMMARY:Loss of Life Partner/Spouse Monthly Group
DESCRIPTION:
URL:https://preventsubstancemisuse.org/event/loss-of-life-partner-spouse-monthly-group/2027-05-19/
LOCATION:Chesapeake Life Center – John & Cathy Belcher Campus\, 90 Ritchie Hwy\, Pasadena\, MD\, 21122\, United States
CATEGORIES:County-Wide
GEO:39.1038604;-76.573166
X-APPLE-STRUCTURED-LOCATION;VALUE=URI;X-ADDRESS=Chesapeake Life Center – John & Cathy Belcher Campus 90 Ritchie Hwy Pasadena MD 21122 United States;X-APPLE-RADIUS=500;X-TITLE=90 Ritchie Hwy:geo:-76.573166,39.1038604
END:VEVENT
BEGIN:VEVENT
DTSTART;TZID=America/New_York:20270616T100000
DTEND;TZID=America/New_York:20270616T120000
DTSTAMP:20260419T202044
CREATED:20191122T145805Z
LAST-MODIFIED:20191122T145922Z
UID:10003764-1813140000-1813147200@preventsubstancemisuse.org
SUMMARY:Loss of Life Partner/Spouse Monthly Group
DESCRIPTION:
URL:https://preventsubstancemisuse.org/event/loss-of-life-partner-spouse-monthly-group/2027-06-16/
LOCATION:Chesapeake Life Center – John & Cathy Belcher Campus\, 90 Ritchie Hwy\, Pasadena\, MD\, 21122\, United States
CATEGORIES:County-Wide
GEO:39.1038604;-76.573166
X-APPLE-STRUCTURED-LOCATION;VALUE=URI;X-ADDRESS=Chesapeake Life Center – John & Cathy Belcher Campus 90 Ritchie Hwy Pasadena MD 21122 United States;X-APPLE-RADIUS=500;X-TITLE=90 Ritchie Hwy:geo:-76.573166,39.1038604
END:VEVENT
BEGIN:VEVENT
DTSTART;TZID=America/New_York:20270616T183000
DTEND;TZID=America/New_York:20270616T200000
DTSTAMP:20260419T202044
CREATED:20230925T124544Z
LAST-MODIFIED:20230925T124544Z
UID:10003872-1813170600-1813176000@preventsubstancemisuse.org
SUMMARY:Loss of Life Partner/Spouse Monthly Group
DESCRIPTION:
URL:https://preventsubstancemisuse.org/event/loss-of-life-partner-spouse-monthly-group/2027-06-16/
LOCATION:Chesapeake Life Center – John & Cathy Belcher Campus\, 90 Ritchie Hwy\, Pasadena\, MD\, 21122\, United States
CATEGORIES:County-Wide
GEO:39.1038604;-76.573166
X-APPLE-STRUCTURED-LOCATION;VALUE=URI;X-ADDRESS=Chesapeake Life Center – John & Cathy Belcher Campus 90 Ritchie Hwy Pasadena MD 21122 United States;X-APPLE-RADIUS=500;X-TITLE=90 Ritchie Hwy:geo:-76.573166,39.1038604
END:VEVENT
BEGIN:VEVENT
DTSTART;TZID=America/New_York:20270721T100000
DTEND;TZID=America/New_York:20270721T120000
DTSTAMP:20260419T202044
CREATED:20191122T145805Z
LAST-MODIFIED:20191122T145922Z
UID:10003765-1816164000-1816171200@preventsubstancemisuse.org
SUMMARY:Loss of Life Partner/Spouse Monthly Group
DESCRIPTION:
URL:https://preventsubstancemisuse.org/event/loss-of-life-partner-spouse-monthly-group/2027-07-21/
LOCATION:Chesapeake Life Center – John & Cathy Belcher Campus\, 90 Ritchie Hwy\, Pasadena\, MD\, 21122\, United States
CATEGORIES:County-Wide
GEO:39.1038604;-76.573166
X-APPLE-STRUCTURED-LOCATION;VALUE=URI;X-ADDRESS=Chesapeake Life Center – John & Cathy Belcher Campus 90 Ritchie Hwy Pasadena MD 21122 United States;X-APPLE-RADIUS=500;X-TITLE=90 Ritchie Hwy:geo:-76.573166,39.1038604
END:VEVENT
BEGIN:VEVENT
DTSTART;TZID=America/New_York:20270721T183000
DTEND;TZID=America/New_York:20270721T200000
DTSTAMP:20260419T202044
CREATED:20230925T124544Z
LAST-MODIFIED:20230925T124544Z
UID:10003873-1816194600-1816200000@preventsubstancemisuse.org
SUMMARY:Loss of Life Partner/Spouse Monthly Group
DESCRIPTION:
URL:https://preventsubstancemisuse.org/event/loss-of-life-partner-spouse-monthly-group/2027-07-21/
LOCATION:Chesapeake Life Center – John & Cathy Belcher Campus\, 90 Ritchie Hwy\, Pasadena\, MD\, 21122\, United States
CATEGORIES:County-Wide
GEO:39.1038604;-76.573166
X-APPLE-STRUCTURED-LOCATION;VALUE=URI;X-ADDRESS=Chesapeake Life Center – John & Cathy Belcher Campus 90 Ritchie Hwy Pasadena MD 21122 United States;X-APPLE-RADIUS=500;X-TITLE=90 Ritchie Hwy:geo:-76.573166,39.1038604
END:VEVENT
END:VCALENDAR