BEGIN:VCALENDAR
VERSION:2.0
PRODID:-//Prevent Substance Misuse - ECPv6.2.2//NONSGML v1.0//EN
CALSCALE:GREGORIAN
METHOD:PUBLISH
X-WR-CALNAME:Prevent Substance Misuse
X-ORIGINAL-URL:https://preventsubstancemisuse.org
X-WR-CALDESC:Events for Prevent Substance Misuse
REFRESH-INTERVAL;VALUE=DURATION:PT1H
X-Robots-Tag:noindex
X-PUBLISHED-TTL:PT1H
BEGIN:VTIMEZONE
TZID:America/New_York
BEGIN:DAYLIGHT
TZOFFSETFROM:-0500
TZOFFSETTO:-0400
TZNAME:EDT
DTSTART:20260308T070000
END:DAYLIGHT
BEGIN:STANDARD
TZOFFSETFROM:-0400
TZOFFSETTO:-0500
TZNAME:EST
DTSTART:20261101T060000
END:STANDARD
BEGIN:DAYLIGHT
TZOFFSETFROM:-0500
TZOFFSETTO:-0400
TZNAME:EDT
DTSTART:20270314T070000
END:DAYLIGHT
BEGIN:STANDARD
TZOFFSETFROM:-0400
TZOFFSETTO:-0500
TZNAME:EST
DTSTART:20271107T060000
END:STANDARD
BEGIN:DAYLIGHT
TZOFFSETFROM:-0500
TZOFFSETTO:-0400
TZNAME:EDT
DTSTART:20280312T070000
END:DAYLIGHT
BEGIN:STANDARD
TZOFFSETFROM:-0400
TZOFFSETTO:-0500
TZNAME:EST
DTSTART:20281105T060000
END:STANDARD
END:VTIMEZONE
BEGIN:VEVENT
DTSTART;TZID=America/New_York:20260420T180000
DTEND;TZID=America/New_York:20260420T193000
DTSTAMP:20260420T033057
CREATED:20191122T145442Z
LAST-MODIFIED:20191122T145634Z
UID:10003642-1776708000-1776713400@preventsubstancemisuse.org
SUMMARY:Together…Silent No More Substance Abuse Grief Support Group
DESCRIPTION:
URL:https://preventsubstancemisuse.org/event/togethersilent-no-more-substance-abuse-grief-support-group/2026-04-20/
LOCATION:Chesapeake Life Center – John & Cathy Belcher Campus\, 90 Ritchie Hwy\, Pasadena\, MD\, 21122\, United States
CATEGORIES:County-Wide
GEO:39.1038604;-76.573166
X-APPLE-STRUCTURED-LOCATION;VALUE=URI;X-ADDRESS=Chesapeake Life Center – John & Cathy Belcher Campus 90 Ritchie Hwy Pasadena MD 21122 United States;X-APPLE-RADIUS=500;X-TITLE=90 Ritchie Hwy:geo:-76.573166,39.1038604
END:VEVENT
BEGIN:VEVENT
DTSTART;TZID=America/New_York:20260518T180000
DTEND;TZID=America/New_York:20260518T193000
DTSTAMP:20260420T033057
CREATED:20191122T145442Z
LAST-MODIFIED:20191122T145634Z
UID:10003643-1779127200-1779132600@preventsubstancemisuse.org
SUMMARY:Together…Silent No More Substance Abuse Grief Support Group
DESCRIPTION:
URL:https://preventsubstancemisuse.org/event/togethersilent-no-more-substance-abuse-grief-support-group/2026-05-18/
LOCATION:Chesapeake Life Center – John & Cathy Belcher Campus\, 90 Ritchie Hwy\, Pasadena\, MD\, 21122\, United States
CATEGORIES:County-Wide
GEO:39.1038604;-76.573166
X-APPLE-STRUCTURED-LOCATION;VALUE=URI;X-ADDRESS=Chesapeake Life Center – John & Cathy Belcher Campus 90 Ritchie Hwy Pasadena MD 21122 United States;X-APPLE-RADIUS=500;X-TITLE=90 Ritchie Hwy:geo:-76.573166,39.1038604
END:VEVENT
BEGIN:VEVENT
DTSTART;TZID=America/New_York:20260615T180000
DTEND;TZID=America/New_York:20260615T193000
DTSTAMP:20260420T033057
CREATED:20191122T145442Z
LAST-MODIFIED:20191122T145634Z
UID:10003644-1781546400-1781551800@preventsubstancemisuse.org
SUMMARY:Together…Silent No More Substance Abuse Grief Support Group
DESCRIPTION:
URL:https://preventsubstancemisuse.org/event/togethersilent-no-more-substance-abuse-grief-support-group/2026-06-15/
LOCATION:Chesapeake Life Center – John & Cathy Belcher Campus\, 90 Ritchie Hwy\, Pasadena\, MD\, 21122\, United States
CATEGORIES:County-Wide
GEO:39.1038604;-76.573166
X-APPLE-STRUCTURED-LOCATION;VALUE=URI;X-ADDRESS=Chesapeake Life Center – John & Cathy Belcher Campus 90 Ritchie Hwy Pasadena MD 21122 United States;X-APPLE-RADIUS=500;X-TITLE=90 Ritchie Hwy:geo:-76.573166,39.1038604
END:VEVENT
BEGIN:VEVENT
DTSTART;TZID=America/New_York:20260720T180000
DTEND;TZID=America/New_York:20260720T193000
DTSTAMP:20260420T033057
CREATED:20191122T145442Z
LAST-MODIFIED:20191122T145634Z
UID:10003645-1784570400-1784575800@preventsubstancemisuse.org
SUMMARY:Together…Silent No More Substance Abuse Grief Support Group
DESCRIPTION:
URL:https://preventsubstancemisuse.org/event/togethersilent-no-more-substance-abuse-grief-support-group/2026-07-20/
LOCATION:Chesapeake Life Center – John & Cathy Belcher Campus\, 90 Ritchie Hwy\, Pasadena\, MD\, 21122\, United States
CATEGORIES:County-Wide
GEO:39.1038604;-76.573166
X-APPLE-STRUCTURED-LOCATION;VALUE=URI;X-ADDRESS=Chesapeake Life Center – John & Cathy Belcher Campus 90 Ritchie Hwy Pasadena MD 21122 United States;X-APPLE-RADIUS=500;X-TITLE=90 Ritchie Hwy:geo:-76.573166,39.1038604
END:VEVENT
BEGIN:VEVENT
DTSTART;TZID=America/New_York:20260817T180000
DTEND;TZID=America/New_York:20260817T193000
DTSTAMP:20260420T033057
CREATED:20191122T145442Z
LAST-MODIFIED:20191122T145634Z
UID:10003646-1786989600-1786995000@preventsubstancemisuse.org
SUMMARY:Together…Silent No More Substance Abuse Grief Support Group
DESCRIPTION:
URL:https://preventsubstancemisuse.org/event/togethersilent-no-more-substance-abuse-grief-support-group/2026-08-17/
LOCATION:Chesapeake Life Center – John & Cathy Belcher Campus\, 90 Ritchie Hwy\, Pasadena\, MD\, 21122\, United States
CATEGORIES:County-Wide
GEO:39.1038604;-76.573166
X-APPLE-STRUCTURED-LOCATION;VALUE=URI;X-ADDRESS=Chesapeake Life Center – John & Cathy Belcher Campus 90 Ritchie Hwy Pasadena MD 21122 United States;X-APPLE-RADIUS=500;X-TITLE=90 Ritchie Hwy:geo:-76.573166,39.1038604
END:VEVENT
BEGIN:VEVENT
DTSTART;TZID=America/New_York:20260921T180000
DTEND;TZID=America/New_York:20260921T193000
DTSTAMP:20260420T033057
CREATED:20191122T145442Z
LAST-MODIFIED:20191122T145634Z
UID:10003647-1790013600-1790019000@preventsubstancemisuse.org
SUMMARY:Together…Silent No More Substance Abuse Grief Support Group
DESCRIPTION:
URL:https://preventsubstancemisuse.org/event/togethersilent-no-more-substance-abuse-grief-support-group/2026-09-21/
LOCATION:Chesapeake Life Center – John & Cathy Belcher Campus\, 90 Ritchie Hwy\, Pasadena\, MD\, 21122\, United States
CATEGORIES:County-Wide
GEO:39.1038604;-76.573166
X-APPLE-STRUCTURED-LOCATION;VALUE=URI;X-ADDRESS=Chesapeake Life Center – John & Cathy Belcher Campus 90 Ritchie Hwy Pasadena MD 21122 United States;X-APPLE-RADIUS=500;X-TITLE=90 Ritchie Hwy:geo:-76.573166,39.1038604
END:VEVENT
BEGIN:VEVENT
DTSTART;TZID=America/New_York:20261019T180000
DTEND;TZID=America/New_York:20261019T193000
DTSTAMP:20260420T033057
CREATED:20191122T145442Z
LAST-MODIFIED:20191122T145634Z
UID:10003648-1792432800-1792438200@preventsubstancemisuse.org
SUMMARY:Together…Silent No More Substance Abuse Grief Support Group
DESCRIPTION:
URL:https://preventsubstancemisuse.org/event/togethersilent-no-more-substance-abuse-grief-support-group/2026-10-19/
LOCATION:Chesapeake Life Center – John & Cathy Belcher Campus\, 90 Ritchie Hwy\, Pasadena\, MD\, 21122\, United States
CATEGORIES:County-Wide
GEO:39.1038604;-76.573166
X-APPLE-STRUCTURED-LOCATION;VALUE=URI;X-ADDRESS=Chesapeake Life Center – John & Cathy Belcher Campus 90 Ritchie Hwy Pasadena MD 21122 United States;X-APPLE-RADIUS=500;X-TITLE=90 Ritchie Hwy:geo:-76.573166,39.1038604
END:VEVENT
BEGIN:VEVENT
DTSTART;TZID=America/New_York:20261116T180000
DTEND;TZID=America/New_York:20261116T193000
DTSTAMP:20260420T033057
CREATED:20191122T145442Z
LAST-MODIFIED:20191122T145634Z
UID:10003649-1794852000-1794857400@preventsubstancemisuse.org
SUMMARY:Together…Silent No More Substance Abuse Grief Support Group
DESCRIPTION:
URL:https://preventsubstancemisuse.org/event/togethersilent-no-more-substance-abuse-grief-support-group/2026-11-16/
LOCATION:Chesapeake Life Center – John & Cathy Belcher Campus\, 90 Ritchie Hwy\, Pasadena\, MD\, 21122\, United States
CATEGORIES:County-Wide
GEO:39.1038604;-76.573166
X-APPLE-STRUCTURED-LOCATION;VALUE=URI;X-ADDRESS=Chesapeake Life Center – John & Cathy Belcher Campus 90 Ritchie Hwy Pasadena MD 21122 United States;X-APPLE-RADIUS=500;X-TITLE=90 Ritchie Hwy:geo:-76.573166,39.1038604
END:VEVENT
BEGIN:VEVENT
DTSTART;TZID=America/New_York:20261221T180000
DTEND;TZID=America/New_York:20261221T193000
DTSTAMP:20260420T033057
CREATED:20191122T145442Z
LAST-MODIFIED:20191122T145634Z
UID:10003650-1797876000-1797881400@preventsubstancemisuse.org
SUMMARY:Together…Silent No More Substance Abuse Grief Support Group
DESCRIPTION:
URL:https://preventsubstancemisuse.org/event/togethersilent-no-more-substance-abuse-grief-support-group/2026-12-21/
LOCATION:Chesapeake Life Center – John & Cathy Belcher Campus\, 90 Ritchie Hwy\, Pasadena\, MD\, 21122\, United States
CATEGORIES:County-Wide
GEO:39.1038604;-76.573166
X-APPLE-STRUCTURED-LOCATION;VALUE=URI;X-ADDRESS=Chesapeake Life Center – John & Cathy Belcher Campus 90 Ritchie Hwy Pasadena MD 21122 United States;X-APPLE-RADIUS=500;X-TITLE=90 Ritchie Hwy:geo:-76.573166,39.1038604
END:VEVENT
BEGIN:VEVENT
DTSTART;TZID=America/New_York:20270118T180000
DTEND;TZID=America/New_York:20270118T193000
DTSTAMP:20260420T033057
CREATED:20191122T145442Z
LAST-MODIFIED:20191122T145634Z
UID:10003651-1800295200-1800300600@preventsubstancemisuse.org
SUMMARY:Together…Silent No More Substance Abuse Grief Support Group
DESCRIPTION:
URL:https://preventsubstancemisuse.org/event/togethersilent-no-more-substance-abuse-grief-support-group/2027-01-18/
LOCATION:Chesapeake Life Center – John & Cathy Belcher Campus\, 90 Ritchie Hwy\, Pasadena\, MD\, 21122\, United States
CATEGORIES:County-Wide
GEO:39.1038604;-76.573166
X-APPLE-STRUCTURED-LOCATION;VALUE=URI;X-ADDRESS=Chesapeake Life Center – John & Cathy Belcher Campus 90 Ritchie Hwy Pasadena MD 21122 United States;X-APPLE-RADIUS=500;X-TITLE=90 Ritchie Hwy:geo:-76.573166,39.1038604
END:VEVENT
BEGIN:VEVENT
DTSTART;TZID=America/New_York:20270215T180000
DTEND;TZID=America/New_York:20270215T193000
DTSTAMP:20260420T033057
CREATED:20191122T145442Z
LAST-MODIFIED:20191122T145634Z
UID:10003652-1802714400-1802719800@preventsubstancemisuse.org
SUMMARY:Together…Silent No More Substance Abuse Grief Support Group
DESCRIPTION:
URL:https://preventsubstancemisuse.org/event/togethersilent-no-more-substance-abuse-grief-support-group/2027-02-15/
LOCATION:Chesapeake Life Center – John & Cathy Belcher Campus\, 90 Ritchie Hwy\, Pasadena\, MD\, 21122\, United States
CATEGORIES:County-Wide
GEO:39.1038604;-76.573166
X-APPLE-STRUCTURED-LOCATION;VALUE=URI;X-ADDRESS=Chesapeake Life Center – John & Cathy Belcher Campus 90 Ritchie Hwy Pasadena MD 21122 United States;X-APPLE-RADIUS=500;X-TITLE=90 Ritchie Hwy:geo:-76.573166,39.1038604
END:VEVENT
BEGIN:VEVENT
DTSTART;TZID=America/New_York:20270315T180000
DTEND;TZID=America/New_York:20270315T193000
DTSTAMP:20260420T033057
CREATED:20191122T145442Z
LAST-MODIFIED:20191122T145634Z
UID:10003653-1805133600-1805139000@preventsubstancemisuse.org
SUMMARY:Together…Silent No More Substance Abuse Grief Support Group
DESCRIPTION:
URL:https://preventsubstancemisuse.org/event/togethersilent-no-more-substance-abuse-grief-support-group/2027-03-15/
LOCATION:Chesapeake Life Center – John & Cathy Belcher Campus\, 90 Ritchie Hwy\, Pasadena\, MD\, 21122\, United States
CATEGORIES:County-Wide
GEO:39.1038604;-76.573166
X-APPLE-STRUCTURED-LOCATION;VALUE=URI;X-ADDRESS=Chesapeake Life Center – John & Cathy Belcher Campus 90 Ritchie Hwy Pasadena MD 21122 United States;X-APPLE-RADIUS=500;X-TITLE=90 Ritchie Hwy:geo:-76.573166,39.1038604
END:VEVENT
BEGIN:VEVENT
DTSTART;TZID=America/New_York:20270419T180000
DTEND;TZID=America/New_York:20270419T193000
DTSTAMP:20260420T033057
CREATED:20191122T145442Z
LAST-MODIFIED:20191122T145634Z
UID:10003654-1808157600-1808163000@preventsubstancemisuse.org
SUMMARY:Together…Silent No More Substance Abuse Grief Support Group
DESCRIPTION:
URL:https://preventsubstancemisuse.org/event/togethersilent-no-more-substance-abuse-grief-support-group/2027-04-19/
LOCATION:Chesapeake Life Center – John & Cathy Belcher Campus\, 90 Ritchie Hwy\, Pasadena\, MD\, 21122\, United States
CATEGORIES:County-Wide
GEO:39.1038604;-76.573166
X-APPLE-STRUCTURED-LOCATION;VALUE=URI;X-ADDRESS=Chesapeake Life Center – John & Cathy Belcher Campus 90 Ritchie Hwy Pasadena MD 21122 United States;X-APPLE-RADIUS=500;X-TITLE=90 Ritchie Hwy:geo:-76.573166,39.1038604
END:VEVENT
BEGIN:VEVENT
DTSTART;TZID=America/New_York:20270517T180000
DTEND;TZID=America/New_York:20270517T193000
DTSTAMP:20260420T033057
CREATED:20191122T145442Z
LAST-MODIFIED:20191122T145634Z
UID:10003655-1810576800-1810582200@preventsubstancemisuse.org
SUMMARY:Together…Silent No More Substance Abuse Grief Support Group
DESCRIPTION:
URL:https://preventsubstancemisuse.org/event/togethersilent-no-more-substance-abuse-grief-support-group/2027-05-17/
LOCATION:Chesapeake Life Center – John & Cathy Belcher Campus\, 90 Ritchie Hwy\, Pasadena\, MD\, 21122\, United States
CATEGORIES:County-Wide
GEO:39.1038604;-76.573166
X-APPLE-STRUCTURED-LOCATION;VALUE=URI;X-ADDRESS=Chesapeake Life Center – John & Cathy Belcher Campus 90 Ritchie Hwy Pasadena MD 21122 United States;X-APPLE-RADIUS=500;X-TITLE=90 Ritchie Hwy:geo:-76.573166,39.1038604
END:VEVENT
BEGIN:VEVENT
DTSTART;TZID=America/New_York:20270621T180000
DTEND;TZID=America/New_York:20270621T193000
DTSTAMP:20260420T033057
CREATED:20191122T145442Z
LAST-MODIFIED:20191122T145634Z
UID:10003656-1813600800-1813606200@preventsubstancemisuse.org
SUMMARY:Together…Silent No More Substance Abuse Grief Support Group
DESCRIPTION:
URL:https://preventsubstancemisuse.org/event/togethersilent-no-more-substance-abuse-grief-support-group/2027-06-21/
LOCATION:Chesapeake Life Center – John & Cathy Belcher Campus\, 90 Ritchie Hwy\, Pasadena\, MD\, 21122\, United States
CATEGORIES:County-Wide
GEO:39.1038604;-76.573166
X-APPLE-STRUCTURED-LOCATION;VALUE=URI;X-ADDRESS=Chesapeake Life Center – John & Cathy Belcher Campus 90 Ritchie Hwy Pasadena MD 21122 United States;X-APPLE-RADIUS=500;X-TITLE=90 Ritchie Hwy:geo:-76.573166,39.1038604
END:VEVENT
BEGIN:VEVENT
DTSTART;TZID=America/New_York:20270719T180000
DTEND;TZID=America/New_York:20270719T193000
DTSTAMP:20260420T033058
CREATED:20191122T145442Z
LAST-MODIFIED:20191122T145634Z
UID:10003657-1816020000-1816025400@preventsubstancemisuse.org
SUMMARY:Together…Silent No More Substance Abuse Grief Support Group
DESCRIPTION:
URL:https://preventsubstancemisuse.org/event/togethersilent-no-more-substance-abuse-grief-support-group/2027-07-19/
LOCATION:Chesapeake Life Center – John & Cathy Belcher Campus\, 90 Ritchie Hwy\, Pasadena\, MD\, 21122\, United States
CATEGORIES:County-Wide
GEO:39.1038604;-76.573166
X-APPLE-STRUCTURED-LOCATION;VALUE=URI;X-ADDRESS=Chesapeake Life Center – John & Cathy Belcher Campus 90 Ritchie Hwy Pasadena MD 21122 United States;X-APPLE-RADIUS=500;X-TITLE=90 Ritchie Hwy:geo:-76.573166,39.1038604
END:VEVENT
BEGIN:VEVENT
DTSTART;TZID=America/New_York:20270816T180000
DTEND;TZID=America/New_York:20270816T193000
DTSTAMP:20260420T033058
CREATED:20191122T145442Z
LAST-MODIFIED:20191122T145634Z
UID:10003658-1818439200-1818444600@preventsubstancemisuse.org
SUMMARY:Together…Silent No More Substance Abuse Grief Support Group
DESCRIPTION:
URL:https://preventsubstancemisuse.org/event/togethersilent-no-more-substance-abuse-grief-support-group/2027-08-16/
LOCATION:Chesapeake Life Center – John & Cathy Belcher Campus\, 90 Ritchie Hwy\, Pasadena\, MD\, 21122\, United States
CATEGORIES:County-Wide
GEO:39.1038604;-76.573166
X-APPLE-STRUCTURED-LOCATION;VALUE=URI;X-ADDRESS=Chesapeake Life Center – John & Cathy Belcher Campus 90 Ritchie Hwy Pasadena MD 21122 United States;X-APPLE-RADIUS=500;X-TITLE=90 Ritchie Hwy:geo:-76.573166,39.1038604
END:VEVENT
BEGIN:VEVENT
DTSTART;TZID=America/New_York:20270920T180000
DTEND;TZID=America/New_York:20270920T193000
DTSTAMP:20260420T033058
CREATED:20191122T145442Z
LAST-MODIFIED:20191122T145634Z
UID:10003659-1821463200-1821468600@preventsubstancemisuse.org
SUMMARY:Together…Silent No More Substance Abuse Grief Support Group
DESCRIPTION:
URL:https://preventsubstancemisuse.org/event/togethersilent-no-more-substance-abuse-grief-support-group/2027-09-20/
LOCATION:Chesapeake Life Center – John & Cathy Belcher Campus\, 90 Ritchie Hwy\, Pasadena\, MD\, 21122\, United States
CATEGORIES:County-Wide
GEO:39.1038604;-76.573166
X-APPLE-STRUCTURED-LOCATION;VALUE=URI;X-ADDRESS=Chesapeake Life Center – John & Cathy Belcher Campus 90 Ritchie Hwy Pasadena MD 21122 United States;X-APPLE-RADIUS=500;X-TITLE=90 Ritchie Hwy:geo:-76.573166,39.1038604
END:VEVENT
BEGIN:VEVENT
DTSTART;TZID=America/New_York:20271018T180000
DTEND;TZID=America/New_York:20271018T193000
DTSTAMP:20260420T033058
CREATED:20191122T145442Z
LAST-MODIFIED:20191122T145634Z
UID:10003660-1823882400-1823887800@preventsubstancemisuse.org
SUMMARY:Together…Silent No More Substance Abuse Grief Support Group
DESCRIPTION:
URL:https://preventsubstancemisuse.org/event/togethersilent-no-more-substance-abuse-grief-support-group/2027-10-18/
LOCATION:Chesapeake Life Center – John & Cathy Belcher Campus\, 90 Ritchie Hwy\, Pasadena\, MD\, 21122\, United States
CATEGORIES:County-Wide
GEO:39.1038604;-76.573166
X-APPLE-STRUCTURED-LOCATION;VALUE=URI;X-ADDRESS=Chesapeake Life Center – John & Cathy Belcher Campus 90 Ritchie Hwy Pasadena MD 21122 United States;X-APPLE-RADIUS=500;X-TITLE=90 Ritchie Hwy:geo:-76.573166,39.1038604
END:VEVENT
BEGIN:VEVENT
DTSTART;TZID=America/New_York:20271115T180000
DTEND;TZID=America/New_York:20271115T193000
DTSTAMP:20260420T033058
CREATED:20191122T145442Z
LAST-MODIFIED:20191122T145634Z
UID:10003661-1826301600-1826307000@preventsubstancemisuse.org
SUMMARY:Together…Silent No More Substance Abuse Grief Support Group
DESCRIPTION:
URL:https://preventsubstancemisuse.org/event/togethersilent-no-more-substance-abuse-grief-support-group/2027-11-15/
LOCATION:Chesapeake Life Center – John & Cathy Belcher Campus\, 90 Ritchie Hwy\, Pasadena\, MD\, 21122\, United States
CATEGORIES:County-Wide
GEO:39.1038604;-76.573166
X-APPLE-STRUCTURED-LOCATION;VALUE=URI;X-ADDRESS=Chesapeake Life Center – John & Cathy Belcher Campus 90 Ritchie Hwy Pasadena MD 21122 United States;X-APPLE-RADIUS=500;X-TITLE=90 Ritchie Hwy:geo:-76.573166,39.1038604
END:VEVENT
BEGIN:VEVENT
DTSTART;TZID=America/New_York:20271220T180000
DTEND;TZID=America/New_York:20271220T193000
DTSTAMP:20260420T033058
CREATED:20191122T145442Z
LAST-MODIFIED:20191122T145634Z
UID:10003662-1829325600-1829331000@preventsubstancemisuse.org
SUMMARY:Together…Silent No More Substance Abuse Grief Support Group
DESCRIPTION:
URL:https://preventsubstancemisuse.org/event/togethersilent-no-more-substance-abuse-grief-support-group/2027-12-20/
LOCATION:Chesapeake Life Center – John & Cathy Belcher Campus\, 90 Ritchie Hwy\, Pasadena\, MD\, 21122\, United States
CATEGORIES:County-Wide
GEO:39.1038604;-76.573166
X-APPLE-STRUCTURED-LOCATION;VALUE=URI;X-ADDRESS=Chesapeake Life Center – John & Cathy Belcher Campus 90 Ritchie Hwy Pasadena MD 21122 United States;X-APPLE-RADIUS=500;X-TITLE=90 Ritchie Hwy:geo:-76.573166,39.1038604
END:VEVENT
BEGIN:VEVENT
DTSTART;TZID=America/New_York:20280117T180000
DTEND;TZID=America/New_York:20280117T193000
DTSTAMP:20260420T033058
CREATED:20191122T145442Z
LAST-MODIFIED:20191122T145634Z
UID:10003663-1831744800-1831750200@preventsubstancemisuse.org
SUMMARY:Together…Silent No More Substance Abuse Grief Support Group
DESCRIPTION:
URL:https://preventsubstancemisuse.org/event/togethersilent-no-more-substance-abuse-grief-support-group/2028-01-17/
LOCATION:Chesapeake Life Center – John & Cathy Belcher Campus\, 90 Ritchie Hwy\, Pasadena\, MD\, 21122\, United States
CATEGORIES:County-Wide
GEO:39.1038604;-76.573166
X-APPLE-STRUCTURED-LOCATION;VALUE=URI;X-ADDRESS=Chesapeake Life Center – John & Cathy Belcher Campus 90 Ritchie Hwy Pasadena MD 21122 United States;X-APPLE-RADIUS=500;X-TITLE=90 Ritchie Hwy:geo:-76.573166,39.1038604
END:VEVENT
BEGIN:VEVENT
DTSTART;TZID=America/New_York:20280221T180000
DTEND;TZID=America/New_York:20280221T193000
DTSTAMP:20260420T033058
CREATED:20191122T145442Z
LAST-MODIFIED:20191122T145634Z
UID:10003664-1834768800-1834774200@preventsubstancemisuse.org
SUMMARY:Together…Silent No More Substance Abuse Grief Support Group
DESCRIPTION:
URL:https://preventsubstancemisuse.org/event/togethersilent-no-more-substance-abuse-grief-support-group/2028-02-21/
LOCATION:Chesapeake Life Center – John & Cathy Belcher Campus\, 90 Ritchie Hwy\, Pasadena\, MD\, 21122\, United States
CATEGORIES:County-Wide
GEO:39.1038604;-76.573166
X-APPLE-STRUCTURED-LOCATION;VALUE=URI;X-ADDRESS=Chesapeake Life Center – John & Cathy Belcher Campus 90 Ritchie Hwy Pasadena MD 21122 United States;X-APPLE-RADIUS=500;X-TITLE=90 Ritchie Hwy:geo:-76.573166,39.1038604
END:VEVENT
BEGIN:VEVENT
DTSTART;TZID=America/New_York:20280320T180000
DTEND;TZID=America/New_York:20280320T193000
DTSTAMP:20260420T033058
CREATED:20191122T145442Z
LAST-MODIFIED:20191122T145634Z
UID:10003665-1837188000-1837193400@preventsubstancemisuse.org
SUMMARY:Together…Silent No More Substance Abuse Grief Support Group
DESCRIPTION:
URL:https://preventsubstancemisuse.org/event/togethersilent-no-more-substance-abuse-grief-support-group/2028-03-20/
LOCATION:Chesapeake Life Center – John & Cathy Belcher Campus\, 90 Ritchie Hwy\, Pasadena\, MD\, 21122\, United States
CATEGORIES:County-Wide
GEO:39.1038604;-76.573166
X-APPLE-STRUCTURED-LOCATION;VALUE=URI;X-ADDRESS=Chesapeake Life Center – John & Cathy Belcher Campus 90 Ritchie Hwy Pasadena MD 21122 United States;X-APPLE-RADIUS=500;X-TITLE=90 Ritchie Hwy:geo:-76.573166,39.1038604
END:VEVENT
BEGIN:VEVENT
DTSTART;TZID=America/New_York:20280417T180000
DTEND;TZID=America/New_York:20280417T193000
DTSTAMP:20260420T033058
CREATED:20191122T145442Z
LAST-MODIFIED:20191122T145634Z
UID:10003666-1839607200-1839612600@preventsubstancemisuse.org
SUMMARY:Together…Silent No More Substance Abuse Grief Support Group
DESCRIPTION:
URL:https://preventsubstancemisuse.org/event/togethersilent-no-more-substance-abuse-grief-support-group/2028-04-17/
LOCATION:Chesapeake Life Center – John & Cathy Belcher Campus\, 90 Ritchie Hwy\, Pasadena\, MD\, 21122\, United States
CATEGORIES:County-Wide
GEO:39.1038604;-76.573166
X-APPLE-STRUCTURED-LOCATION;VALUE=URI;X-ADDRESS=Chesapeake Life Center – John & Cathy Belcher Campus 90 Ritchie Hwy Pasadena MD 21122 United States;X-APPLE-RADIUS=500;X-TITLE=90 Ritchie Hwy:geo:-76.573166,39.1038604
END:VEVENT
BEGIN:VEVENT
DTSTART;TZID=America/New_York:20280515T180000
DTEND;TZID=America/New_York:20280515T193000
DTSTAMP:20260420T033058
CREATED:20191122T145442Z
LAST-MODIFIED:20191122T145634Z
UID:10003667-1842026400-1842031800@preventsubstancemisuse.org
SUMMARY:Together…Silent No More Substance Abuse Grief Support Group
DESCRIPTION:
URL:https://preventsubstancemisuse.org/event/togethersilent-no-more-substance-abuse-grief-support-group/2028-05-15/
LOCATION:Chesapeake Life Center – John & Cathy Belcher Campus\, 90 Ritchie Hwy\, Pasadena\, MD\, 21122\, United States
CATEGORIES:County-Wide
GEO:39.1038604;-76.573166
X-APPLE-STRUCTURED-LOCATION;VALUE=URI;X-ADDRESS=Chesapeake Life Center – John & Cathy Belcher Campus 90 Ritchie Hwy Pasadena MD 21122 United States;X-APPLE-RADIUS=500;X-TITLE=90 Ritchie Hwy:geo:-76.573166,39.1038604
END:VEVENT
BEGIN:VEVENT
DTSTART;TZID=America/New_York:20280619T180000
DTEND;TZID=America/New_York:20280619T193000
DTSTAMP:20260420T033058
CREATED:20191122T145442Z
LAST-MODIFIED:20191122T145634Z
UID:10003668-1845050400-1845055800@preventsubstancemisuse.org
SUMMARY:Together…Silent No More Substance Abuse Grief Support Group
DESCRIPTION:
URL:https://preventsubstancemisuse.org/event/togethersilent-no-more-substance-abuse-grief-support-group/2028-06-19/
LOCATION:Chesapeake Life Center – John & Cathy Belcher Campus\, 90 Ritchie Hwy\, Pasadena\, MD\, 21122\, United States
CATEGORIES:County-Wide
GEO:39.1038604;-76.573166
X-APPLE-STRUCTURED-LOCATION;VALUE=URI;X-ADDRESS=Chesapeake Life Center – John & Cathy Belcher Campus 90 Ritchie Hwy Pasadena MD 21122 United States;X-APPLE-RADIUS=500;X-TITLE=90 Ritchie Hwy:geo:-76.573166,39.1038604
END:VEVENT
BEGIN:VEVENT
DTSTART;TZID=America/New_York:20280717T180000
DTEND;TZID=America/New_York:20280717T193000
DTSTAMP:20260420T033058
CREATED:20191122T145442Z
LAST-MODIFIED:20191122T145634Z
UID:10003669-1847469600-1847475000@preventsubstancemisuse.org
SUMMARY:Together…Silent No More Substance Abuse Grief Support Group
DESCRIPTION:
URL:https://preventsubstancemisuse.org/event/togethersilent-no-more-substance-abuse-grief-support-group/2028-07-17/
LOCATION:Chesapeake Life Center – John & Cathy Belcher Campus\, 90 Ritchie Hwy\, Pasadena\, MD\, 21122\, United States
CATEGORIES:County-Wide
GEO:39.1038604;-76.573166
X-APPLE-STRUCTURED-LOCATION;VALUE=URI;X-ADDRESS=Chesapeake Life Center – John & Cathy Belcher Campus 90 Ritchie Hwy Pasadena MD 21122 United States;X-APPLE-RADIUS=500;X-TITLE=90 Ritchie Hwy:geo:-76.573166,39.1038604
END:VEVENT
BEGIN:VEVENT
DTSTART;TZID=America/New_York:20280821T180000
DTEND;TZID=America/New_York:20280821T193000
DTSTAMP:20260420T033058
CREATED:20191122T145442Z
LAST-MODIFIED:20191122T145634Z
UID:10003670-1850493600-1850499000@preventsubstancemisuse.org
SUMMARY:Together…Silent No More Substance Abuse Grief Support Group
DESCRIPTION:
URL:https://preventsubstancemisuse.org/event/togethersilent-no-more-substance-abuse-grief-support-group/2028-08-21/
LOCATION:Chesapeake Life Center – John & Cathy Belcher Campus\, 90 Ritchie Hwy\, Pasadena\, MD\, 21122\, United States
CATEGORIES:County-Wide
GEO:39.1038604;-76.573166
X-APPLE-STRUCTURED-LOCATION;VALUE=URI;X-ADDRESS=Chesapeake Life Center – John & Cathy Belcher Campus 90 Ritchie Hwy Pasadena MD 21122 United States;X-APPLE-RADIUS=500;X-TITLE=90 Ritchie Hwy:geo:-76.573166,39.1038604
END:VEVENT
BEGIN:VEVENT
DTSTART;TZID=America/New_York:20280918T180000
DTEND;TZID=America/New_York:20280918T193000
DTSTAMP:20260420T033058
CREATED:20191122T145442Z
LAST-MODIFIED:20191122T145634Z
UID:10003671-1852912800-1852918200@preventsubstancemisuse.org
SUMMARY:Together…Silent No More Substance Abuse Grief Support Group
DESCRIPTION:
URL:https://preventsubstancemisuse.org/event/togethersilent-no-more-substance-abuse-grief-support-group/2028-09-18/
LOCATION:Chesapeake Life Center – John & Cathy Belcher Campus\, 90 Ritchie Hwy\, Pasadena\, MD\, 21122\, United States
CATEGORIES:County-Wide
GEO:39.1038604;-76.573166
X-APPLE-STRUCTURED-LOCATION;VALUE=URI;X-ADDRESS=Chesapeake Life Center – John & Cathy Belcher Campus 90 Ritchie Hwy Pasadena MD 21122 United States;X-APPLE-RADIUS=500;X-TITLE=90 Ritchie Hwy:geo:-76.573166,39.1038604
END:VEVENT
END:VCALENDAR