BEGIN:VCALENDAR
VERSION:2.0
PRODID:-//Prevent Substance Misuse - ECPv6.2.2//NONSGML v1.0//EN
CALSCALE:GREGORIAN
METHOD:PUBLISH
X-WR-CALNAME:Prevent Substance Misuse
X-ORIGINAL-URL:https://preventsubstancemisuse.org
X-WR-CALDESC:Events for Prevent Substance Misuse
REFRESH-INTERVAL;VALUE=DURATION:PT1H
X-Robots-Tag:noindex
X-PUBLISHED-TTL:PT1H
BEGIN:VTIMEZONE
TZID:America/New_York
BEGIN:DAYLIGHT
TZOFFSETFROM:-0500
TZOFFSETTO:-0400
TZNAME:EDT
DTSTART:20230312T070000
END:DAYLIGHT
BEGIN:STANDARD
TZOFFSETFROM:-0400
TZOFFSETTO:-0500
TZNAME:EST
DTSTART:20231105T060000
END:STANDARD
BEGIN:DAYLIGHT
TZOFFSETFROM:-0500
TZOFFSETTO:-0400
TZNAME:EDT
DTSTART:20240310T070000
END:DAYLIGHT
BEGIN:STANDARD
TZOFFSETFROM:-0400
TZOFFSETTO:-0500
TZNAME:EST
DTSTART:20241103T060000
END:STANDARD
END:VTIMEZONE
BEGIN:VEVENT
DTSTART;TZID=America/New_York:20240125T183000
DTEND;TZID=America/New_York:20240125T200000
DTSTAMP:20260421T044108
CREATED:20220610T001039Z
LAST-MODIFIED:20221209T213133Z
UID:10004271-1706207400-1706212800@preventsubstancemisuse.org
SUMMARY:NLASA Coalition Meeting
DESCRIPTION:
URL:https://preventsubstancemisuse.org/event/nlasa-coalition-meeting/2024-01-25/
CATEGORIES:Northern Lights / North County
END:VEVENT
BEGIN:VEVENT
DTSTART;TZID=America/New_York:20240119T160000
DTEND;TZID=America/New_York:20240119T180000
DTSTAMP:20260421T044108
CREATED:20190719T204010Z
LAST-MODIFIED:20191122T152101Z
UID:10002382-1705680000-1705687200@preventsubstancemisuse.org
SUMMARY:Family Open House
DESCRIPTION:
URL:https://preventsubstancemisuse.org/event/family-open-house/2024-01-19/
LOCATION:313 Crain Hwy South\, 313 Crain Hwy South\, Glen Burnie\, MD\, 21061\, United States
CATEGORIES:Northern Lights / North County
ORGANIZER;CN="MD Coalition of Families":MAILTO:mgreen@mdcoalition.org
GEO:39.1601746;-76.6273947
X-APPLE-STRUCTURED-LOCATION;VALUE=URI;X-ADDRESS=313 Crain Hwy South 313 Crain Hwy South Glen Burnie MD 21061 United States;X-APPLE-RADIUS=500;X-TITLE=313 Crain Hwy South:geo:-76.6273947,39.1601746
END:VEVENT
BEGIN:VEVENT
DTSTART;TZID=America/New_York:20240103T100000
DTEND;TZID=America/New_York:20240103T113000
DTSTAMP:20260421T044108
CREATED:20190927T141451Z
LAST-MODIFIED:20220912T201730Z
UID:10002476-1704276000-1704281400@preventsubstancemisuse.org
SUMMARY:Recovery Anne Arundel (ROSC) Monthly Meeting
DESCRIPTION:
URL:https://preventsubstancemisuse.org/event/recovery-anne-arundel-rosc-monthly-meeting/2024-01-03/
LOCATION:Heritage Baptist Church\, 1740 Forest Drive\, Annapolis\, 21403
CATEGORIES:ASAP / Annapolis,County-Wide,Northern Lights / North County,Opioid Taskforce / County-Wide,South County Bridges / South County,WASP / West County
ORGANIZER;CN="Recovery Anne Arundel":MAILTO:info@recoveryannearundel.org
GEO:38.9693874;-76.5183838
X-APPLE-STRUCTURED-LOCATION;VALUE=URI;X-ADDRESS=Heritage Baptist Church 1740 Forest Drive Annapolis 21403;X-APPLE-RADIUS=500;X-TITLE=1740 Forest Drive:geo:-76.5183838,38.9693874
END:VEVENT
BEGIN:VEVENT
DTSTART;TZID=America/New_York:20231228T183000
DTEND;TZID=America/New_York:20231228T200000
DTSTAMP:20260421T044108
CREATED:20220610T001039Z
LAST-MODIFIED:20221209T213133Z
UID:10004270-1703788200-1703793600@preventsubstancemisuse.org
SUMMARY:NLASA Coalition Meeting
DESCRIPTION:
URL:https://preventsubstancemisuse.org/event/nlasa-coalition-meeting/2023-12-28/
CATEGORIES:Northern Lights / North County
END:VEVENT
BEGIN:VEVENT
DTSTART;TZID=America/New_York:20231215T160000
DTEND;TZID=America/New_York:20231215T180000
DTSTAMP:20260421T044108
CREATED:20190719T204010Z
LAST-MODIFIED:20191122T152101Z
UID:10002381-1702656000-1702663200@preventsubstancemisuse.org
SUMMARY:Family Open House
DESCRIPTION:
URL:https://preventsubstancemisuse.org/event/family-open-house/2023-12-15/
LOCATION:313 Crain Hwy South\, 313 Crain Hwy South\, Glen Burnie\, MD\, 21061\, United States
CATEGORIES:Northern Lights / North County
ORGANIZER;CN="MD Coalition of Families":MAILTO:mgreen@mdcoalition.org
GEO:39.1601746;-76.6273947
X-APPLE-STRUCTURED-LOCATION;VALUE=URI;X-ADDRESS=313 Crain Hwy South 313 Crain Hwy South Glen Burnie MD 21061 United States;X-APPLE-RADIUS=500;X-TITLE=313 Crain Hwy South:geo:-76.6273947,39.1601746
END:VEVENT
BEGIN:VEVENT
DTSTART;TZID=America/New_York:20231206T100000
DTEND;TZID=America/New_York:20231206T113000
DTSTAMP:20260421T044108
CREATED:20190927T141451Z
LAST-MODIFIED:20220912T201730Z
UID:10002475-1701856800-1701862200@preventsubstancemisuse.org
SUMMARY:Recovery Anne Arundel (ROSC) Monthly Meeting
DESCRIPTION:
URL:https://preventsubstancemisuse.org/event/recovery-anne-arundel-rosc-monthly-meeting/2023-12-06/
LOCATION:Heritage Baptist Church\, 1740 Forest Drive\, Annapolis\, 21403
CATEGORIES:ASAP / Annapolis,County-Wide,Northern Lights / North County,Opioid Taskforce / County-Wide,South County Bridges / South County,WASP / West County
ORGANIZER;CN="Recovery Anne Arundel":MAILTO:info@recoveryannearundel.org
GEO:38.9693874;-76.5183838
X-APPLE-STRUCTURED-LOCATION;VALUE=URI;X-ADDRESS=Heritage Baptist Church 1740 Forest Drive Annapolis 21403;X-APPLE-RADIUS=500;X-TITLE=1740 Forest Drive:geo:-76.5183838,38.9693874
END:VEVENT
BEGIN:VEVENT
DTSTART;TZID=America/New_York:20231123T183000
DTEND;TZID=America/New_York:20231123T200000
DTSTAMP:20260421T044108
CREATED:20220610T001039Z
LAST-MODIFIED:20221209T213133Z
UID:10004269-1700764200-1700769600@preventsubstancemisuse.org
SUMMARY:NLASA Coalition Meeting
DESCRIPTION:
URL:https://preventsubstancemisuse.org/event/nlasa-coalition-meeting/2023-11-23/
CATEGORIES:Northern Lights / North County
END:VEVENT
BEGIN:VEVENT
DTSTART;TZID=America/New_York:20231117T160000
DTEND;TZID=America/New_York:20231117T180000
DTSTAMP:20260421T044108
CREATED:20190719T204010Z
LAST-MODIFIED:20191122T152101Z
UID:10002380-1700236800-1700244000@preventsubstancemisuse.org
SUMMARY:Family Open House
DESCRIPTION:
URL:https://preventsubstancemisuse.org/event/family-open-house/2023-11-17/
LOCATION:313 Crain Hwy South\, 313 Crain Hwy South\, Glen Burnie\, MD\, 21061\, United States
CATEGORIES:Northern Lights / North County
ORGANIZER;CN="MD Coalition of Families":MAILTO:mgreen@mdcoalition.org
GEO:39.1601746;-76.6273947
X-APPLE-STRUCTURED-LOCATION;VALUE=URI;X-ADDRESS=313 Crain Hwy South 313 Crain Hwy South Glen Burnie MD 21061 United States;X-APPLE-RADIUS=500;X-TITLE=313 Crain Hwy South:geo:-76.6273947,39.1601746
END:VEVENT
BEGIN:VEVENT
DTSTART;TZID=America/New_York:20231101T100000
DTEND;TZID=America/New_York:20231101T113000
DTSTAMP:20260421T044108
CREATED:20190927T141451Z
LAST-MODIFIED:20220912T201730Z
UID:10002474-1698832800-1698838200@preventsubstancemisuse.org
SUMMARY:Recovery Anne Arundel (ROSC) Monthly Meeting
DESCRIPTION:
URL:https://preventsubstancemisuse.org/event/recovery-anne-arundel-rosc-monthly-meeting/2023-11-01/
LOCATION:Heritage Baptist Church\, 1740 Forest Drive\, Annapolis\, 21403
CATEGORIES:ASAP / Annapolis,County-Wide,Northern Lights / North County,Opioid Taskforce / County-Wide,South County Bridges / South County,WASP / West County
ORGANIZER;CN="Recovery Anne Arundel":MAILTO:info@recoveryannearundel.org
GEO:38.9693874;-76.5183838
X-APPLE-STRUCTURED-LOCATION;VALUE=URI;X-ADDRESS=Heritage Baptist Church 1740 Forest Drive Annapolis 21403;X-APPLE-RADIUS=500;X-TITLE=1740 Forest Drive:geo:-76.5183838,38.9693874
END:VEVENT
BEGIN:VEVENT
DTSTART;TZID=America/New_York:20231026T183000
DTEND;TZID=America/New_York:20231026T200000
DTSTAMP:20260421T044108
CREATED:20220610T001039Z
LAST-MODIFIED:20221209T213133Z
UID:10004268-1698345000-1698350400@preventsubstancemisuse.org
SUMMARY:NLASA Coalition Meeting
DESCRIPTION:
URL:https://preventsubstancemisuse.org/event/nlasa-coalition-meeting/2023-10-26/
CATEGORIES:Northern Lights / North County
END:VEVENT
BEGIN:VEVENT
DTSTART;TZID=America/New_York:20231020T160000
DTEND;TZID=America/New_York:20231020T180000
DTSTAMP:20260421T044108
CREATED:20190719T204010Z
LAST-MODIFIED:20191122T152101Z
UID:10002379-1697817600-1697824800@preventsubstancemisuse.org
SUMMARY:Family Open House
DESCRIPTION:
URL:https://preventsubstancemisuse.org/event/family-open-house/2023-10-20/
LOCATION:313 Crain Hwy South\, 313 Crain Hwy South\, Glen Burnie\, MD\, 21061\, United States
CATEGORIES:Northern Lights / North County
ORGANIZER;CN="MD Coalition of Families":MAILTO:mgreen@mdcoalition.org
GEO:39.1601746;-76.6273947
X-APPLE-STRUCTURED-LOCATION;VALUE=URI;X-ADDRESS=313 Crain Hwy South 313 Crain Hwy South Glen Burnie MD 21061 United States;X-APPLE-RADIUS=500;X-TITLE=313 Crain Hwy South:geo:-76.6273947,39.1601746
END:VEVENT
BEGIN:VEVENT
DTSTART;TZID=America/New_York:20231004T100000
DTEND;TZID=America/New_York:20231004T113000
DTSTAMP:20260421T044108
CREATED:20190927T141451Z
LAST-MODIFIED:20220912T201730Z
UID:10002473-1696413600-1696419000@preventsubstancemisuse.org
SUMMARY:Recovery Anne Arundel (ROSC) Monthly Meeting
DESCRIPTION:
URL:https://preventsubstancemisuse.org/event/recovery-anne-arundel-rosc-monthly-meeting/2023-10-04/
LOCATION:Heritage Baptist Church\, 1740 Forest Drive\, Annapolis\, 21403
CATEGORIES:ASAP / Annapolis,County-Wide,Northern Lights / North County,Opioid Taskforce / County-Wide,South County Bridges / South County,WASP / West County
ORGANIZER;CN="Recovery Anne Arundel":MAILTO:info@recoveryannearundel.org
GEO:38.9693874;-76.5183838
X-APPLE-STRUCTURED-LOCATION;VALUE=URI;X-ADDRESS=Heritage Baptist Church 1740 Forest Drive Annapolis 21403;X-APPLE-RADIUS=500;X-TITLE=1740 Forest Drive:geo:-76.5183838,38.9693874
END:VEVENT
BEGIN:VEVENT
DTSTART;TZID=America/New_York:20230928T183000
DTEND;TZID=America/New_York:20230928T200000
DTSTAMP:20260421T044108
CREATED:20220610T001039Z
LAST-MODIFIED:20221209T213133Z
UID:10004267-1695925800-1695931200@preventsubstancemisuse.org
SUMMARY:NLASA Coalition Meeting
DESCRIPTION:
URL:https://preventsubstancemisuse.org/event/nlasa-coalition-meeting/2023-09-28/
CATEGORIES:Northern Lights / North County
END:VEVENT
BEGIN:VEVENT
DTSTART;TZID=America/New_York:20230915T160000
DTEND;TZID=America/New_York:20230915T180000
DTSTAMP:20260421T044108
CREATED:20190719T204010Z
LAST-MODIFIED:20191122T152101Z
UID:10002378-1694793600-1694800800@preventsubstancemisuse.org
SUMMARY:Family Open House
DESCRIPTION:
URL:https://preventsubstancemisuse.org/event/family-open-house/2023-09-15/
LOCATION:313 Crain Hwy South\, 313 Crain Hwy South\, Glen Burnie\, MD\, 21061\, United States
CATEGORIES:Northern Lights / North County
ORGANIZER;CN="MD Coalition of Families":MAILTO:mgreen@mdcoalition.org
GEO:39.1601746;-76.6273947
X-APPLE-STRUCTURED-LOCATION;VALUE=URI;X-ADDRESS=313 Crain Hwy South 313 Crain Hwy South Glen Burnie MD 21061 United States;X-APPLE-RADIUS=500;X-TITLE=313 Crain Hwy South:geo:-76.6273947,39.1601746
END:VEVENT
BEGIN:VEVENT
DTSTART;TZID=America/New_York:20230906T100000
DTEND;TZID=America/New_York:20230906T113000
DTSTAMP:20260421T044108
CREATED:20190927T141451Z
LAST-MODIFIED:20220912T201730Z
UID:10002472-1693994400-1693999800@preventsubstancemisuse.org
SUMMARY:Recovery Anne Arundel (ROSC) Monthly Meeting
DESCRIPTION:
URL:https://preventsubstancemisuse.org/event/recovery-anne-arundel-rosc-monthly-meeting/2023-09-06/
LOCATION:Heritage Baptist Church\, 1740 Forest Drive\, Annapolis\, 21403
CATEGORIES:ASAP / Annapolis,County-Wide,Northern Lights / North County,Opioid Taskforce / County-Wide,South County Bridges / South County,WASP / West County
ORGANIZER;CN="Recovery Anne Arundel":MAILTO:info@recoveryannearundel.org
GEO:38.9693874;-76.5183838
X-APPLE-STRUCTURED-LOCATION;VALUE=URI;X-ADDRESS=Heritage Baptist Church 1740 Forest Drive Annapolis 21403;X-APPLE-RADIUS=500;X-TITLE=1740 Forest Drive:geo:-76.5183838,38.9693874
END:VEVENT
BEGIN:VEVENT
DTSTART;TZID=America/New_York:20230824T183000
DTEND;TZID=America/New_York:20230824T200000
DTSTAMP:20260421T044108
CREATED:20220610T001039Z
LAST-MODIFIED:20221209T213133Z
UID:10004266-1692901800-1692907200@preventsubstancemisuse.org
SUMMARY:NLASA Coalition Meeting
DESCRIPTION:
URL:https://preventsubstancemisuse.org/event/nlasa-coalition-meeting/2023-08-24/
CATEGORIES:Northern Lights / North County
END:VEVENT
BEGIN:VEVENT
DTSTART;TZID=America/New_York:20230818T160000
DTEND;TZID=America/New_York:20230818T180000
DTSTAMP:20260421T044108
CREATED:20190719T204010Z
LAST-MODIFIED:20191122T152101Z
UID:10002377-1692374400-1692381600@preventsubstancemisuse.org
SUMMARY:Family Open House
DESCRIPTION:
URL:https://preventsubstancemisuse.org/event/family-open-house/2023-08-18/
LOCATION:313 Crain Hwy South\, 313 Crain Hwy South\, Glen Burnie\, MD\, 21061\, United States
CATEGORIES:Northern Lights / North County
ORGANIZER;CN="MD Coalition of Families":MAILTO:mgreen@mdcoalition.org
GEO:39.1601746;-76.6273947
X-APPLE-STRUCTURED-LOCATION;VALUE=URI;X-ADDRESS=313 Crain Hwy South 313 Crain Hwy South Glen Burnie MD 21061 United States;X-APPLE-RADIUS=500;X-TITLE=313 Crain Hwy South:geo:-76.6273947,39.1601746
END:VEVENT
BEGIN:VEVENT
DTSTART;TZID=America/New_York:20230802T100000
DTEND;TZID=America/New_York:20230802T113000
DTSTAMP:20260421T044108
CREATED:20190927T141451Z
LAST-MODIFIED:20220912T201730Z
UID:10002471-1690970400-1690975800@preventsubstancemisuse.org
SUMMARY:Recovery Anne Arundel (ROSC) Monthly Meeting
DESCRIPTION:
URL:https://preventsubstancemisuse.org/event/recovery-anne-arundel-rosc-monthly-meeting/2023-08-02/
LOCATION:Heritage Baptist Church\, 1740 Forest Drive\, Annapolis\, 21403
CATEGORIES:ASAP / Annapolis,County-Wide,Northern Lights / North County,Opioid Taskforce / County-Wide,South County Bridges / South County,WASP / West County
ORGANIZER;CN="Recovery Anne Arundel":MAILTO:info@recoveryannearundel.org
GEO:38.9693874;-76.5183838
X-APPLE-STRUCTURED-LOCATION;VALUE=URI;X-ADDRESS=Heritage Baptist Church 1740 Forest Drive Annapolis 21403;X-APPLE-RADIUS=500;X-TITLE=1740 Forest Drive:geo:-76.5183838,38.9693874
END:VEVENT
BEGIN:VEVENT
DTSTART;TZID=America/New_York:20230727T183000
DTEND;TZID=America/New_York:20230727T200000
DTSTAMP:20260421T044108
CREATED:20220610T001039Z
LAST-MODIFIED:20221209T213133Z
UID:10004265-1690482600-1690488000@preventsubstancemisuse.org
SUMMARY:NLASA Coalition Meeting
DESCRIPTION:
URL:https://preventsubstancemisuse.org/event/nlasa-coalition-meeting/2023-07-27/
CATEGORIES:Northern Lights / North County
END:VEVENT
BEGIN:VEVENT
DTSTART;TZID=America/New_York:20230721T160000
DTEND;TZID=America/New_York:20230721T180000
DTSTAMP:20260421T044108
CREATED:20190719T204010Z
LAST-MODIFIED:20191122T152101Z
UID:10002376-1689955200-1689962400@preventsubstancemisuse.org
SUMMARY:Family Open House
DESCRIPTION:
URL:https://preventsubstancemisuse.org/event/family-open-house/2023-07-21/
LOCATION:313 Crain Hwy South\, 313 Crain Hwy South\, Glen Burnie\, MD\, 21061\, United States
CATEGORIES:Northern Lights / North County
ORGANIZER;CN="MD Coalition of Families":MAILTO:mgreen@mdcoalition.org
GEO:39.1601746;-76.6273947
X-APPLE-STRUCTURED-LOCATION;VALUE=URI;X-ADDRESS=313 Crain Hwy South 313 Crain Hwy South Glen Burnie MD 21061 United States;X-APPLE-RADIUS=500;X-TITLE=313 Crain Hwy South:geo:-76.6273947,39.1601746
END:VEVENT
BEGIN:VEVENT
DTSTART;TZID=America/New_York:20230705T100000
DTEND;TZID=America/New_York:20230705T113000
DTSTAMP:20260421T044108
CREATED:20190927T141451Z
LAST-MODIFIED:20220912T201730Z
UID:10002470-1688551200-1688556600@preventsubstancemisuse.org
SUMMARY:Recovery Anne Arundel (ROSC) Monthly Meeting
DESCRIPTION:
URL:https://preventsubstancemisuse.org/event/recovery-anne-arundel-rosc-monthly-meeting/2023-07-05/
LOCATION:Heritage Baptist Church\, 1740 Forest Drive\, Annapolis\, 21403
CATEGORIES:ASAP / Annapolis,County-Wide,Northern Lights / North County,Opioid Taskforce / County-Wide,South County Bridges / South County,WASP / West County
ORGANIZER;CN="Recovery Anne Arundel":MAILTO:info@recoveryannearundel.org
GEO:38.9693874;-76.5183838
X-APPLE-STRUCTURED-LOCATION;VALUE=URI;X-ADDRESS=Heritage Baptist Church 1740 Forest Drive Annapolis 21403;X-APPLE-RADIUS=500;X-TITLE=1740 Forest Drive:geo:-76.5183838,38.9693874
END:VEVENT
BEGIN:VEVENT
DTSTART;TZID=America/New_York:20230622T183000
DTEND;TZID=America/New_York:20230622T200000
DTSTAMP:20260421T044108
CREATED:20220610T001039Z
LAST-MODIFIED:20221209T213133Z
UID:10004264-1687458600-1687464000@preventsubstancemisuse.org
SUMMARY:NLASA Coalition Meeting
DESCRIPTION:
URL:https://preventsubstancemisuse.org/event/nlasa-coalition-meeting/2023-06-22/
CATEGORIES:Northern Lights / North County
END:VEVENT
BEGIN:VEVENT
DTSTART;TZID=America/New_York:20230616T160000
DTEND;TZID=America/New_York:20230616T180000
DTSTAMP:20260421T044108
CREATED:20190719T204010Z
LAST-MODIFIED:20191122T152101Z
UID:10002375-1686931200-1686938400@preventsubstancemisuse.org
SUMMARY:Family Open House
DESCRIPTION:
URL:https://preventsubstancemisuse.org/event/family-open-house/2023-06-16/
LOCATION:313 Crain Hwy South\, 313 Crain Hwy South\, Glen Burnie\, MD\, 21061\, United States
CATEGORIES:Northern Lights / North County
ORGANIZER;CN="MD Coalition of Families":MAILTO:mgreen@mdcoalition.org
GEO:39.1601746;-76.6273947
X-APPLE-STRUCTURED-LOCATION;VALUE=URI;X-ADDRESS=313 Crain Hwy South 313 Crain Hwy South Glen Burnie MD 21061 United States;X-APPLE-RADIUS=500;X-TITLE=313 Crain Hwy South:geo:-76.6273947,39.1601746
END:VEVENT
BEGIN:VEVENT
DTSTART;TZID=America/New_York:20230607T100000
DTEND;TZID=America/New_York:20230607T113000
DTSTAMP:20260421T044108
CREATED:20190927T141451Z
LAST-MODIFIED:20220912T201730Z
UID:10002469-1686132000-1686137400@preventsubstancemisuse.org
SUMMARY:Recovery Anne Arundel (ROSC) Monthly Meeting
DESCRIPTION:
URL:https://preventsubstancemisuse.org/event/recovery-anne-arundel-rosc-monthly-meeting/2023-06-07/
LOCATION:Heritage Baptist Church\, 1740 Forest Drive\, Annapolis\, 21403
CATEGORIES:ASAP / Annapolis,County-Wide,Northern Lights / North County,Opioid Taskforce / County-Wide,South County Bridges / South County,WASP / West County
ORGANIZER;CN="Recovery Anne Arundel":MAILTO:info@recoveryannearundel.org
GEO:38.9693874;-76.5183838
X-APPLE-STRUCTURED-LOCATION;VALUE=URI;X-ADDRESS=Heritage Baptist Church 1740 Forest Drive Annapolis 21403;X-APPLE-RADIUS=500;X-TITLE=1740 Forest Drive:geo:-76.5183838,38.9693874
END:VEVENT
BEGIN:VEVENT
DTSTART;TZID=America/New_York:20230525T183000
DTEND;TZID=America/New_York:20230525T200000
DTSTAMP:20260421T044108
CREATED:20220610T001039Z
LAST-MODIFIED:20221209T213133Z
UID:10004263-1685039400-1685044800@preventsubstancemisuse.org
SUMMARY:NLASA Coalition Meeting
DESCRIPTION:
URL:https://preventsubstancemisuse.org/event/nlasa-coalition-meeting/2023-05-25/
CATEGORIES:Northern Lights / North County
END:VEVENT
BEGIN:VEVENT
DTSTART;TZID=America/New_York:20230519T160000
DTEND;TZID=America/New_York:20230519T180000
DTSTAMP:20260421T044108
CREATED:20190719T204010Z
LAST-MODIFIED:20191122T152101Z
UID:10002374-1684512000-1684519200@preventsubstancemisuse.org
SUMMARY:Family Open House
DESCRIPTION:
URL:https://preventsubstancemisuse.org/event/family-open-house/2023-05-19/
LOCATION:313 Crain Hwy South\, 313 Crain Hwy South\, Glen Burnie\, MD\, 21061\, United States
CATEGORIES:Northern Lights / North County
ORGANIZER;CN="MD Coalition of Families":MAILTO:mgreen@mdcoalition.org
GEO:39.1601746;-76.6273947
X-APPLE-STRUCTURED-LOCATION;VALUE=URI;X-ADDRESS=313 Crain Hwy South 313 Crain Hwy South Glen Burnie MD 21061 United States;X-APPLE-RADIUS=500;X-TITLE=313 Crain Hwy South:geo:-76.6273947,39.1601746
END:VEVENT
BEGIN:VEVENT
DTSTART;TZID=America/New_York:20230503T100000
DTEND;TZID=America/New_York:20230503T113000
DTSTAMP:20260421T044108
CREATED:20190927T141451Z
LAST-MODIFIED:20220912T201730Z
UID:10002468-1683108000-1683113400@preventsubstancemisuse.org
SUMMARY:Recovery Anne Arundel (ROSC) Monthly Meeting
DESCRIPTION:
URL:https://preventsubstancemisuse.org/event/recovery-anne-arundel-rosc-monthly-meeting/2023-05-03/
LOCATION:Heritage Baptist Church\, 1740 Forest Drive\, Annapolis\, 21403
CATEGORIES:ASAP / Annapolis,County-Wide,Northern Lights / North County,Opioid Taskforce / County-Wide,South County Bridges / South County,WASP / West County
ORGANIZER;CN="Recovery Anne Arundel":MAILTO:info@recoveryannearundel.org
GEO:38.9693874;-76.5183838
X-APPLE-STRUCTURED-LOCATION;VALUE=URI;X-ADDRESS=Heritage Baptist Church 1740 Forest Drive Annapolis 21403;X-APPLE-RADIUS=500;X-TITLE=1740 Forest Drive:geo:-76.5183838,38.9693874
END:VEVENT
BEGIN:VEVENT
DTSTART;TZID=America/New_York:20230427T183000
DTEND;TZID=America/New_York:20230427T200000
DTSTAMP:20260421T044108
CREATED:20220610T001039Z
LAST-MODIFIED:20221209T213133Z
UID:10004262-1682620200-1682625600@preventsubstancemisuse.org
SUMMARY:NLASA Coalition Meeting
DESCRIPTION:
URL:https://preventsubstancemisuse.org/event/nlasa-coalition-meeting/2023-04-27/
CATEGORIES:Northern Lights / North County
END:VEVENT
BEGIN:VEVENT
DTSTART;TZID=America/New_York:20230421T160000
DTEND;TZID=America/New_York:20230421T180000
DTSTAMP:20260421T044108
CREATED:20190719T204010Z
LAST-MODIFIED:20191122T152101Z
UID:10002373-1682092800-1682100000@preventsubstancemisuse.org
SUMMARY:Family Open House
DESCRIPTION:
URL:https://preventsubstancemisuse.org/event/family-open-house/2023-04-21/
LOCATION:313 Crain Hwy South\, 313 Crain Hwy South\, Glen Burnie\, MD\, 21061\, United States
CATEGORIES:Northern Lights / North County
ORGANIZER;CN="MD Coalition of Families":MAILTO:mgreen@mdcoalition.org
GEO:39.1601746;-76.6273947
X-APPLE-STRUCTURED-LOCATION;VALUE=URI;X-ADDRESS=313 Crain Hwy South 313 Crain Hwy South Glen Burnie MD 21061 United States;X-APPLE-RADIUS=500;X-TITLE=313 Crain Hwy South:geo:-76.6273947,39.1601746
END:VEVENT
BEGIN:VEVENT
DTSTART;TZID=America/New_York:20230405T100000
DTEND;TZID=America/New_York:20230405T113000
DTSTAMP:20260421T044108
CREATED:20190927T141451Z
LAST-MODIFIED:20220912T201730Z
UID:10002467-1680688800-1680694200@preventsubstancemisuse.org
SUMMARY:Recovery Anne Arundel (ROSC) Monthly Meeting
DESCRIPTION:
URL:https://preventsubstancemisuse.org/event/recovery-anne-arundel-rosc-monthly-meeting/2023-04-05/
LOCATION:Heritage Baptist Church\, 1740 Forest Drive\, Annapolis\, 21403
CATEGORIES:ASAP / Annapolis,County-Wide,Northern Lights / North County,Opioid Taskforce / County-Wide,South County Bridges / South County,WASP / West County
ORGANIZER;CN="Recovery Anne Arundel":MAILTO:info@recoveryannearundel.org
GEO:38.9693874;-76.5183838
X-APPLE-STRUCTURED-LOCATION;VALUE=URI;X-ADDRESS=Heritage Baptist Church 1740 Forest Drive Annapolis 21403;X-APPLE-RADIUS=500;X-TITLE=1740 Forest Drive:geo:-76.5183838,38.9693874
END:VEVENT
END:VCALENDAR