BEGIN:VCALENDAR
VERSION:2.0
PRODID:-//Prevent Substance Misuse - ECPv6.2.2//NONSGML v1.0//EN
CALSCALE:GREGORIAN
METHOD:PUBLISH
X-WR-CALNAME:Prevent Substance Misuse
X-ORIGINAL-URL:https://preventsubstancemisuse.org
X-WR-CALDESC:Events for Prevent Substance Misuse
REFRESH-INTERVAL;VALUE=DURATION:PT1H
X-Robots-Tag:noindex
X-PUBLISHED-TTL:PT1H
BEGIN:VTIMEZONE
TZID:America/New_York
BEGIN:DAYLIGHT
TZOFFSETFROM:-0500
TZOFFSETTO:-0400
TZNAME:EDT
DTSTART:20190310T070000
END:DAYLIGHT
BEGIN:STANDARD
TZOFFSETFROM:-0400
TZOFFSETTO:-0500
TZNAME:EST
DTSTART:20191103T060000
END:STANDARD
END:VTIMEZONE
BEGIN:VEVENT
DTSTART;TZID=America/New_York:20190817T110000
DTEND;TZID=America/New_York:20190817T140000
DTSTAMP:20260425T072404
CREATED:20190719T204236Z
LAST-MODIFIED:20190719T204236Z
UID:10002440-1566039600-1566050400@preventsubstancemisuse.org
SUMMARY:High in Plain Sight | Substance Misuse Prevention Training
DESCRIPTION:
URL:https://preventsubstancemisuse.org/event/high-in-plain-sight-substance-misuse-prevention-training/
LOCATION:Howard High School\, 8700 Old Annapolis Rd\, Columbia\, MD\, 21045\, United States
CATEGORIES:County-Wide
ORGANIZER;CN="Delphi Health Group":MAILTO:cboyer@delphihealthgroup.com
GEO:39.2259946;-76.8119474
X-APPLE-STRUCTURED-LOCATION;VALUE=URI;X-ADDRESS=Howard High School 8700 Old Annapolis Rd Columbia MD 21045 United States;X-APPLE-RADIUS=500;X-TITLE=8700 Old Annapolis Rd:geo:-76.8119474,39.2259946
END:VEVENT
END:VCALENDAR