BEGIN:VCALENDAR
VERSION:2.0
PRODID:-//Prevent Substance Misuse - ECPv6.2.2//NONSGML v1.0//EN
CALSCALE:GREGORIAN
METHOD:PUBLISH
X-WR-CALNAME:Prevent Substance Misuse
X-ORIGINAL-URL:https://preventsubstancemisuse.org
X-WR-CALDESC:Events for Prevent Substance Misuse
REFRESH-INTERVAL;VALUE=DURATION:PT1H
X-Robots-Tag:noindex
X-PUBLISHED-TTL:PT1H
BEGIN:VTIMEZONE
TZID:America/New_York
BEGIN:DAYLIGHT
TZOFFSETFROM:-0500
TZOFFSETTO:-0400
TZNAME:EDT
DTSTART:20190310T070000
END:DAYLIGHT
BEGIN:STANDARD
TZOFFSETFROM:-0400
TZOFFSETTO:-0500
TZNAME:EST
DTSTART:20191103T060000
END:STANDARD
END:VTIMEZONE
BEGIN:VEVENT
DTSTART;TZID=America/New_York:20190806T100000
DTEND;TZID=America/New_York:20190806T110000
DTSTAMP:20260424T065139
CREATED:20190531T211725Z
LAST-MODIFIED:20190719T202523Z
UID:10002292-1565085600-1565089200@preventsubstancemisuse.org
SUMMARY:Free Opioid Overdose Response Training
DESCRIPTION:
URL:https://preventsubstancemisuse.org/event/free-opioid-overdose-response-training-2/2019-08-06/
LOCATION:Department of Health\, 3 Harry S. Truman Pkwy\, Annapolis\, MD\, 21401\, United States
CATEGORIES:County-Wide
GEO:38.9810744;-76.5638595
X-APPLE-STRUCTURED-LOCATION;VALUE=URI;X-ADDRESS=Department of Health 3 Harry S. Truman Pkwy Annapolis MD 21401 United States;X-APPLE-RADIUS=500;X-TITLE=3 Harry S. Truman Pkwy:geo:-76.5638595,38.9810744
END:VEVENT
BEGIN:VEVENT
DTSTART;TZID=America/New_York:20190806T170000
DTEND;TZID=America/New_York:20190806T200000
DTSTAMP:20260424T065139
CREATED:20190719T203641Z
LAST-MODIFIED:20190725T210545Z
UID:10002324-1565110800-1565121600@preventsubstancemisuse.org
SUMMARY:National Night Out
DESCRIPTION:Piney Orchard\n5-8pm\n2400 Stream Valley Dr\, Odenton\, 21113\nBrenda Bledsoe – bbledsoe@pineyorchard.com \nCrofton Library\n5-8pm\n1681 Riedel Rd\, Crofton\, MD 21114\nhttps://croftonchamber.com/NNO/ \nEastern District\n5:30-8:30pm\nEarleigh Heights Fire Dept.\n161 Ritchie Hwy\, Severna Park\, MD 21146\nSam Tanner -EasternDistrictNNO@gmail.com – 443-274-5259 \nNorth County\n6-8pm\nChesapeake Arts Center\n194 Hammonds Ln\, Brooklyn Park\, MD 21225\ncontact@arundelgardens.com – 443-422-9184 \nSouth County\nLula Scott Comm. Center\n6243 Shady Side Rd\, Shady Side\, MD 20764 \nObery Court\n5-7pm\n199 Bertina A Nick Way\, Annapolis\, MD 21401 \nAnnapolis Gardens\n5-8pm\n250 Croll Dr\, Annapolis\, MD 21401 \nBay Ridge Gardens\n5-7pm\n1 Bens Dr\, Annapolis\, MD 21403 \nChambers Park\n5:30-7:30pm \n 
URL:https://preventsubstancemisuse.org/event/national-night-out/
LOCATION:Multiple Venues
CATEGORIES:ASAP / Annapolis,County-Wide,Northern Lights / North County,Opioid Taskforce / County-Wide,South County Bridges / South County,WASP / West County
END:VEVENT
END:VCALENDAR