BEGIN:VCALENDAR
VERSION:2.0
PRODID:-//Prevent Substance Misuse - ECPv6.2.2//NONSGML v1.0//EN
CALSCALE:GREGORIAN
METHOD:PUBLISH
X-ORIGINAL-URL:https://preventsubstancemisuse.org
X-WR-CALDESC:Events for Prevent Substance Misuse
REFRESH-INTERVAL;VALUE=DURATION:PT1H
X-Robots-Tag:noindex
X-PUBLISHED-TTL:PT1H
BEGIN:VTIMEZONE
TZID:America/New_York
BEGIN:DAYLIGHT
TZOFFSETFROM:-0500
TZOFFSETTO:-0400
TZNAME:EDT
DTSTART:20190310T070000
END:DAYLIGHT
BEGIN:STANDARD
TZOFFSETFROM:-0400
TZOFFSETTO:-0500
TZNAME:EST
DTSTART:20191103T060000
END:STANDARD
END:VTIMEZONE
BEGIN:VEVENT
DTSTART;TZID=America/New_York:20191101T100000
DTEND;TZID=America/New_York:20191101T110000
DTSTAMP:20260421T171451
CREATED:20190719T201341Z
LAST-MODIFIED:20190927T141715Z
UID:10002308-1572602400-1572606000@preventsubstancemisuse.org
SUMMARY:Walk & Talk | “It’s Okay to Talk About It”
DESCRIPTION:
URL:https://preventsubstancemisuse.org/event/walk-talk-its-okay-to-talk-about-it/2019-11-01/
LOCATION:Marley Station Mall\, 7900 Ritchie Hwy\, Glen Burnie\, MD\, 21061\, United States
CATEGORIES:ASAP / Annapolis,County-Wide,Northern Lights / North County,Opioid Taskforce / County-Wide,South County Bridges / South County,WASP / West County
ORGANIZER;CN="MD Coalition of Families":MAILTO:mgreen@mdcoalition.org
GEO:39.1384796;-76.6055277
X-APPLE-STRUCTURED-LOCATION;VALUE=URI;X-ADDRESS=Marley Station Mall 7900 Ritchie Hwy Glen Burnie MD 21061 United States;X-APPLE-RADIUS=500;X-TITLE=7900 Ritchie Hwy:geo:-76.6055277,39.1384796
END:VEVENT
BEGIN:VEVENT
DTSTART;TZID=America/New_York:20191101T180000
DTEND;TZID=America/New_York:20191101T190000
DTSTAMP:20260421T171451
CREATED:20230925T124530Z
LAST-MODIFIED:20230925T124530Z
UID:10002317-1572631200-1572634800@preventsubstancemisuse.org
SUMMARY:Walk & Talk | “It’s Okay to Talk About It”
DESCRIPTION:
URL:https://preventsubstancemisuse.org/event/walk-talk-its-okay-to-talk-about-it/2019-11-01/
LOCATION:Marley Station Mall\, 7900 Ritchie Hwy\, Glen Burnie\, MD\, 21061\, United States
CATEGORIES:ASAP / Annapolis,County-Wide,Northern Lights / North County,Opioid Taskforce / County-Wide,South County Bridges / South County,WASP / West County
ORGANIZER;CN="MD Coalition of Families":MAILTO:mgreen@mdcoalition.org
GEO:39.1384796;-76.6055277
X-APPLE-STRUCTURED-LOCATION;VALUE=URI;X-ADDRESS=Marley Station Mall 7900 Ritchie Hwy Glen Burnie MD 21061 United States;X-APPLE-RADIUS=500;X-TITLE=7900 Ritchie Hwy:geo:-76.6055277,39.1384796
END:VEVENT
BEGIN:VEVENT
DTSTART;TZID=America/New_York:20191109T083000
DTEND;TZID=America/New_York:20191109T160000
DTSTAMP:20260421T171451
CREATED:20190322T011100Z
LAST-MODIFIED:20191122T143846Z
UID:10002284-1573288200-1573315200@preventsubstancemisuse.org
SUMMARY:Pathways Family Wellness Workshop
DESCRIPTION:The Pathways Family Wellness Workshop is a therapeutic and educational program for family members of adults or adolescents struggling with substance abuse. Through a combination of group therapy\, learning sessions\, and personal growth opportunities\, participants will: \n-Gain facts and understanding about addiction disease and substance abuse\, as well as relapse prevention strategies.\n-Examine stages of recovery for family members.\n-Develop effective skills for communication\, coping and boundary-setting.\n-Participate in adventure therapy to increase self-awareness and behavioral changes that are important to the recovery process.\n-Develop supportive relationships with other participating families. \nFREE! | Breakfast & Lunch Provided! \nREGISTRATION
URL:https://preventsubstancemisuse.org/event/pathways-family-wellness-workshop/2019-11-09/
LOCATION:Pathways\, 2620 Riva Road\, Annapolis\, MD\, 21401\, United States
CATEGORIES:County-Wide
ATTACH;FMTTYPE=image/jpeg:https://preventsubstancemisuse.org/wp-content/uploads/2019/03/Pathways-Family-Wellness-Workshop-Image.jpg
GEO:38.9780077;-76.5581703
X-APPLE-STRUCTURED-LOCATION;VALUE=URI;X-ADDRESS=Pathways 2620 Riva Road Annapolis MD 21401 United States;X-APPLE-RADIUS=500;X-TITLE=2620 Riva Road:geo:-76.5581703,38.9780077
END:VEVENT
BEGIN:VEVENT
DTSTART;TZID=America/New_York:20191113T183000
DTEND;TZID=America/New_York:20191113T200000
DTSTAMP:20260421T171451
CREATED:20191107T235904Z
LAST-MODIFIED:20191107T235904Z
UID:10002535-1573669800-1573675200@preventsubstancemisuse.org
SUMMARY:Mental Health Support Group
DESCRIPTION:The program covers a variety of mental health topics such as depression\, anxiety\, addictions and bipolar disorder. Community resources and services available to patients and their families will also be discussed. Reservations are not requested. For more information\, call 410-787-4627.
URL:https://preventsubstancemisuse.org/event/mental-health-support-group/
LOCATION:301 Hospital Drive\, 301 Hospital Drive\, Glen Burnie\, MD\, 21061\, United States
CATEGORIES:County-Wide
GEO:39.1376872;-76.6228375
X-APPLE-STRUCTURED-LOCATION;VALUE=URI;X-ADDRESS=301 Hospital Drive 301 Hospital Drive Glen Burnie MD 21061 United States;X-APPLE-RADIUS=500;X-TITLE=301 Hospital Drive:geo:-76.6228375,39.1376872
END:VEVENT
BEGIN:VEVENT
DTSTART;TZID=America/New_York:20191115T100000
DTEND;TZID=America/New_York:20191115T110000
DTSTAMP:20260421T171451
CREATED:20230925T124530Z
LAST-MODIFIED:20230925T124530Z
UID:10002313-1573812000-1573815600@preventsubstancemisuse.org
SUMMARY:Walk & Talk | “It’s Okay to Talk About It”
DESCRIPTION:
URL:https://preventsubstancemisuse.org/event/walk-talk-its-okay-to-talk-about-it/2019-11-15/
LOCATION:Marley Station Mall\, 7900 Ritchie Hwy\, Glen Burnie\, MD\, 21061\, United States
CATEGORIES:ASAP / Annapolis,County-Wide,Northern Lights / North County,Opioid Taskforce / County-Wide,South County Bridges / South County,WASP / West County
ORGANIZER;CN="MD Coalition of Families":MAILTO:mgreen@mdcoalition.org
GEO:39.1384796;-76.6055277
X-APPLE-STRUCTURED-LOCATION;VALUE=URI;X-ADDRESS=Marley Station Mall 7900 Ritchie Hwy Glen Burnie MD 21061 United States;X-APPLE-RADIUS=500;X-TITLE=7900 Ritchie Hwy:geo:-76.6055277,39.1384796
END:VEVENT
BEGIN:VEVENT
DTSTART;TZID=America/New_York:20191115T180000
DTEND;TZID=America/New_York:20191115T190000
DTSTAMP:20260421T171451
CREATED:20230925T124530Z
LAST-MODIFIED:20230925T124530Z
UID:10002322-1573840800-1573844400@preventsubstancemisuse.org
SUMMARY:Walk & Talk | “It’s Okay to Talk About It”
DESCRIPTION:
URL:https://preventsubstancemisuse.org/event/walk-talk-its-okay-to-talk-about-it/2019-11-15/
LOCATION:Marley Station Mall\, 7900 Ritchie Hwy\, Glen Burnie\, MD\, 21061\, United States
CATEGORIES:ASAP / Annapolis,County-Wide,Northern Lights / North County,Opioid Taskforce / County-Wide,South County Bridges / South County,WASP / West County
ORGANIZER;CN="MD Coalition of Families":MAILTO:mgreen@mdcoalition.org
GEO:39.1384796;-76.6055277
X-APPLE-STRUCTURED-LOCATION;VALUE=URI;X-ADDRESS=Marley Station Mall 7900 Ritchie Hwy Glen Burnie MD 21061 United States;X-APPLE-RADIUS=500;X-TITLE=7900 Ritchie Hwy:geo:-76.6055277,39.1384796
END:VEVENT
BEGIN:VEVENT
DTSTART;TZID=America/New_York:20191123T083000
DTEND;TZID=America/New_York:20191123T160000
DTSTAMP:20260421T171451
CREATED:20190322T011100Z
LAST-MODIFIED:20191122T143846Z
UID:10002285-1574497800-1574524800@preventsubstancemisuse.org
SUMMARY:Pathways Family Wellness Workshop
DESCRIPTION:The Pathways Family Wellness Workshop is a therapeutic and educational program for family members of adults or adolescents struggling with substance abuse. Through a combination of group therapy\, learning sessions\, and personal growth opportunities\, participants will: \n-Gain facts and understanding about addiction disease and substance abuse\, as well as relapse prevention strategies.\n-Examine stages of recovery for family members.\n-Develop effective skills for communication\, coping and boundary-setting.\n-Participate in adventure therapy to increase self-awareness and behavioral changes that are important to the recovery process.\n-Develop supportive relationships with other participating families. \nFREE! | Breakfast & Lunch Provided! \nREGISTRATION
URL:https://preventsubstancemisuse.org/event/pathways-family-wellness-workshop/2019-11-23/
LOCATION:Pathways\, 2620 Riva Road\, Annapolis\, MD\, 21401\, United States
CATEGORIES:County-Wide
ATTACH;FMTTYPE=image/jpeg:https://preventsubstancemisuse.org/wp-content/uploads/2019/03/Pathways-Family-Wellness-Workshop-Image.jpg
GEO:38.9780077;-76.5581703
X-APPLE-STRUCTURED-LOCATION;VALUE=URI;X-ADDRESS=Pathways 2620 Riva Road Annapolis MD 21401 United States;X-APPLE-RADIUS=500;X-TITLE=2620 Riva Road:geo:-76.5581703,38.9780077
END:VEVENT
BEGIN:VEVENT
DTSTART;TZID=America/New_York:20191125T180000
DTEND;TZID=America/New_York:20191125T193000
DTSTAMP:20260421T171451
CREATED:20191122T144425Z
LAST-MODIFIED:20191122T144543Z
UID:10002536-1574704800-1574710200@preventsubstancemisuse.org
SUMMARY:AAMC Trauma Support Group
DESCRIPTION:
URL:https://preventsubstancemisuse.org/event/aamc-trauma-support-group/2019-11-25/
LOCATION:AAMC\, 2001 Medical Parkway\, 7th Floor Belcher Pavilion\, Annapolis\, MD\, 21401\, United States
CATEGORIES:County-Wide
ORGANIZER;CN="AAMC":MAILTO:cwallace@aahs.org
GEO:38.9901469;-76.5341382
X-APPLE-STRUCTURED-LOCATION;VALUE=URI;X-ADDRESS=AAMC 2001 Medical Parkway 7th Floor Belcher Pavilion Annapolis MD 21401 United States;X-APPLE-RADIUS=500;X-TITLE=2001 Medical Parkway\, 7th Floor Belcher Pavilion:geo:-76.5341382,38.9901469
END:VEVENT
END:VCALENDAR