BEGIN:VCALENDAR
VERSION:2.0
PRODID:-//Prevent Substance Misuse - ECPv6.2.2//NONSGML v1.0//EN
CALSCALE:GREGORIAN
METHOD:PUBLISH
X-WR-CALNAME:Prevent Substance Misuse
X-ORIGINAL-URL:https://preventsubstancemisuse.org
X-WR-CALDESC:Events for Prevent Substance Misuse
REFRESH-INTERVAL;VALUE=DURATION:PT1H
X-Robots-Tag:noindex
X-PUBLISHED-TTL:PT1H
BEGIN:VTIMEZONE
TZID:America/New_York
BEGIN:DAYLIGHT
TZOFFSETFROM:-0500
TZOFFSETTO:-0400
TZNAME:EDT
DTSTART:20190310T070000
END:DAYLIGHT
BEGIN:STANDARD
TZOFFSETFROM:-0400
TZOFFSETTO:-0500
TZNAME:EST
DTSTART:20191103T060000
END:STANDARD
END:VTIMEZONE
BEGIN:VEVENT
DTSTART;TZID=America/New_York:20190906T100000
DTEND;TZID=America/New_York:20190906T110000
DTSTAMP:20260422T015922
CREATED:20190719T201341Z
LAST-MODIFIED:20190927T141715Z
UID:10002306-1567764000-1567767600@preventsubstancemisuse.org
SUMMARY:Walk & Talk | “It’s Okay to Talk About It”
DESCRIPTION:
URL:https://preventsubstancemisuse.org/event/walk-talk-its-okay-to-talk-about-it/2019-09-06/
LOCATION:Marley Station Mall\, 7900 Ritchie Hwy\, Glen Burnie\, MD\, 21061\, United States
CATEGORIES:ASAP / Annapolis,County-Wide,Northern Lights / North County,Opioid Taskforce / County-Wide,South County Bridges / South County,WASP / West County
ORGANIZER;CN="MD Coalition of Families":MAILTO:mgreen@mdcoalition.org
GEO:39.1384796;-76.6055277
X-APPLE-STRUCTURED-LOCATION;VALUE=URI;X-ADDRESS=Marley Station Mall 7900 Ritchie Hwy Glen Burnie MD 21061 United States;X-APPLE-RADIUS=500;X-TITLE=7900 Ritchie Hwy:geo:-76.6055277,39.1384796
END:VEVENT
BEGIN:VEVENT
DTSTART;TZID=America/New_York:20190906T180000
DTEND;TZID=America/New_York:20190906T190000
DTSTAMP:20260422T015922
CREATED:20230925T124530Z
LAST-MODIFIED:20230925T124530Z
UID:10002315-1567792800-1567796400@preventsubstancemisuse.org
SUMMARY:Walk & Talk | “It’s Okay to Talk About It”
DESCRIPTION:
URL:https://preventsubstancemisuse.org/event/walk-talk-its-okay-to-talk-about-it/2019-09-06/
LOCATION:Marley Station Mall\, 7900 Ritchie Hwy\, Glen Burnie\, MD\, 21061\, United States
CATEGORIES:ASAP / Annapolis,County-Wide,Northern Lights / North County,Opioid Taskforce / County-Wide,South County Bridges / South County,WASP / West County
ORGANIZER;CN="MD Coalition of Families":MAILTO:mgreen@mdcoalition.org
GEO:39.1384796;-76.6055277
X-APPLE-STRUCTURED-LOCATION;VALUE=URI;X-ADDRESS=Marley Station Mall 7900 Ritchie Hwy Glen Burnie MD 21061 United States;X-APPLE-RADIUS=500;X-TITLE=7900 Ritchie Hwy:geo:-76.6055277,39.1384796
END:VEVENT
BEGIN:VEVENT
DTSTART;TZID=America/New_York:20190910T100000
DTEND;TZID=America/New_York:20190910T110000
DTSTAMP:20260422T015922
CREATED:20190531T211519Z
LAST-MODIFIED:20190719T202722Z
UID:10002290-1568109600-1568113200@preventsubstancemisuse.org
SUMMARY:Free Opioid Overdose Response Training
DESCRIPTION:
URL:https://preventsubstancemisuse.org/event/free-opioid-overdose-response-training/2019-09-10/
LOCATION:Department of Health\, 122 North Langley Rd\, Glen Burnie\, MD\, 21060\, United States
CATEGORIES:ASAP / Annapolis,County-Wide,Northern Lights / North County,Opioid Taskforce / County-Wide,South County Bridges / South County,WASP / West County
GEO:39.1800044;-76.607604
X-APPLE-STRUCTURED-LOCATION;VALUE=URI;X-ADDRESS=Department of Health 122 North Langley Rd Glen Burnie MD 21060 United States;X-APPLE-RADIUS=500;X-TITLE=122 North Langley Rd:geo:-76.607604,39.1800044
END:VEVENT
BEGIN:VEVENT
DTSTART;TZID=America/New_York:20190912T100000
DTEND;TZID=America/New_York:20190912T110000
DTSTAMP:20260422T015922
CREATED:20190531T211725Z
LAST-MODIFIED:20190719T202523Z
UID:10002293-1568282400-1568286000@preventsubstancemisuse.org
SUMMARY:Free Opioid Overdose Response Training
DESCRIPTION:
URL:https://preventsubstancemisuse.org/event/free-opioid-overdose-response-training-2/2019-09-12/
LOCATION:Department of Health\, 3 Harry S. Truman Pkwy\, Annapolis\, MD\, 21401\, United States
CATEGORIES:County-Wide
GEO:38.9810744;-76.5638595
X-APPLE-STRUCTURED-LOCATION;VALUE=URI;X-ADDRESS=Department of Health 3 Harry S. Truman Pkwy Annapolis MD 21401 United States;X-APPLE-RADIUS=500;X-TITLE=3 Harry S. Truman Pkwy:geo:-76.5638595,38.9810744
END:VEVENT
BEGIN:VEVENT
DTSTART;TZID=America/New_York:20190916T163000
DTEND;TZID=America/New_York:20190916T180000
DTSTAMP:20260422T015922
CREATED:20190816T174634Z
LAST-MODIFIED:20190816T174634Z
UID:10002457-1568651400-1568656800@preventsubstancemisuse.org
SUMMARY:Save a Life: Narcan Training
DESCRIPTION:8/22 Registration – https://www.eventbrite.com/e/narcan-training-at-glen-burnie-library-tickets-58865587557 \n9/16 Registration – https://www.eventbrite.com/e/narcan-training-at-glen-burnie-library-tickets-63473454812
URL:https://preventsubstancemisuse.org/event/save-a-life-narcan-training/2019-09-16/
LOCATION:Glen Burnie Library\, 1010 Eastway\, Glen Burnie\, MD\, 21060\, United States
CATEGORIES:ASAP / Annapolis,County-Wide,Northern Lights / North County,Opioid Taskforce / County-Wide,South County Bridges / South County,WASP / West County
ORGANIZER;CN="AAMC":MAILTO:cwallace@aahs.org
GEO:39.1533718;-76.6133813
X-APPLE-STRUCTURED-LOCATION;VALUE=URI;X-ADDRESS=Glen Burnie Library 1010 Eastway Glen Burnie MD 21060 United States;X-APPLE-RADIUS=500;X-TITLE=1010 Eastway:geo:-76.6133813,39.1533718
END:VEVENT
BEGIN:VEVENT
DTSTART;TZID=America/New_York:20190920T100000
DTEND;TZID=America/New_York:20190920T110000
DTSTAMP:20260422T015922
CREATED:20230925T124530Z
LAST-MODIFIED:20230925T124530Z
UID:10002311-1568973600-1568977200@preventsubstancemisuse.org
SUMMARY:Walk & Talk | “It’s Okay to Talk About It”
DESCRIPTION:
URL:https://preventsubstancemisuse.org/event/walk-talk-its-okay-to-talk-about-it/2019-09-20/
LOCATION:Marley Station Mall\, 7900 Ritchie Hwy\, Glen Burnie\, MD\, 21061\, United States
CATEGORIES:ASAP / Annapolis,County-Wide,Northern Lights / North County,Opioid Taskforce / County-Wide,South County Bridges / South County,WASP / West County
ORGANIZER;CN="MD Coalition of Families":MAILTO:mgreen@mdcoalition.org
GEO:39.1384796;-76.6055277
X-APPLE-STRUCTURED-LOCATION;VALUE=URI;X-ADDRESS=Marley Station Mall 7900 Ritchie Hwy Glen Burnie MD 21061 United States;X-APPLE-RADIUS=500;X-TITLE=7900 Ritchie Hwy:geo:-76.6055277,39.1384796
END:VEVENT
BEGIN:VEVENT
DTSTART;TZID=America/New_York:20190920T180000
DTEND;TZID=America/New_York:20190920T190000
DTSTAMP:20260422T015922
CREATED:20230925T124530Z
LAST-MODIFIED:20230925T124530Z
UID:10002320-1569002400-1569006000@preventsubstancemisuse.org
SUMMARY:Walk & Talk | “It’s Okay to Talk About It”
DESCRIPTION:
URL:https://preventsubstancemisuse.org/event/walk-talk-its-okay-to-talk-about-it/2019-09-20/
LOCATION:Marley Station Mall\, 7900 Ritchie Hwy\, Glen Burnie\, MD\, 21061\, United States
CATEGORIES:ASAP / Annapolis,County-Wide,Northern Lights / North County,Opioid Taskforce / County-Wide,South County Bridges / South County,WASP / West County
ORGANIZER;CN="MD Coalition of Families":MAILTO:mgreen@mdcoalition.org
GEO:39.1384796;-76.6055277
X-APPLE-STRUCTURED-LOCATION;VALUE=URI;X-ADDRESS=Marley Station Mall 7900 Ritchie Hwy Glen Burnie MD 21061 United States;X-APPLE-RADIUS=500;X-TITLE=7900 Ritchie Hwy:geo:-76.6055277,39.1384796
END:VEVENT
END:VCALENDAR