BEGIN:VCALENDAR
VERSION:2.0
PRODID:-//Prevent Substance Misuse - ECPv6.2.2//NONSGML v1.0//EN
CALSCALE:GREGORIAN
METHOD:PUBLISH
X-WR-CALNAME:Prevent Substance Misuse
X-ORIGINAL-URL:https://preventsubstancemisuse.org
X-WR-CALDESC:Events for Prevent Substance Misuse
REFRESH-INTERVAL;VALUE=DURATION:PT1H
X-Robots-Tag:noindex
X-PUBLISHED-TTL:PT1H
BEGIN:VTIMEZONE
TZID:America/New_York
BEGIN:DAYLIGHT
TZOFFSETFROM:-0500
TZOFFSETTO:-0400
TZNAME:EDT
DTSTART:20200308T070000
END:DAYLIGHT
BEGIN:STANDARD
TZOFFSETFROM:-0400
TZOFFSETTO:-0500
TZNAME:EST
DTSTART:20201101T060000
END:STANDARD
END:VTIMEZONE
BEGIN:VEVENT
DTSTART;TZID=America/New_York:20200130T180000
DTEND;TZID=America/New_York:20200130T200000
DTSTAMP:20260422T214805
CREATED:20200124T223810Z
LAST-MODIFIED:20200124T224328Z
UID:10003780-1580407200-1580414400@preventsubstancemisuse.org
SUMMARY:Community Engagement Session
DESCRIPTION:REGISTRATION \nFACEBOOK EVENT
URL:https://preventsubstancemisuse.org/event/community-engagement-session/
LOCATION:Annapolis City Hall\, 160 Duke of Gloucester St\, Annapolis\, MD\, 21401\, United States
CATEGORIES:ASAP / Annapolis
GEO:38.9765172;-76.4894281
X-APPLE-STRUCTURED-LOCATION;VALUE=URI;X-ADDRESS=Annapolis City Hall 160 Duke of Gloucester St Annapolis MD 21401 United States;X-APPLE-RADIUS=500;X-TITLE=160 Duke of Gloucester St:geo:-76.4894281,38.9765172
END:VEVENT
END:VCALENDAR