BEGIN:VCALENDAR
VERSION:2.0
PRODID:-//Prevent Substance Misuse - ECPv6.2.2//NONSGML v1.0//EN
CALSCALE:GREGORIAN
METHOD:PUBLISH
X-WR-CALNAME:Prevent Substance Misuse
X-ORIGINAL-URL:https://preventsubstancemisuse.org
X-WR-CALDESC:Events for Prevent Substance Misuse
REFRESH-INTERVAL;VALUE=DURATION:PT1H
X-Robots-Tag:noindex
X-PUBLISHED-TTL:PT1H
BEGIN:VTIMEZONE
TZID:America/New_York
BEGIN:DAYLIGHT
TZOFFSETFROM:-0500
TZOFFSETTO:-0400
TZNAME:EDT
DTSTART:20190310T070000
END:DAYLIGHT
BEGIN:STANDARD
TZOFFSETFROM:-0400
TZOFFSETTO:-0500
TZNAME:EST
DTSTART:20191103T060000
END:STANDARD
END:VTIMEZONE
BEGIN:VEVENT
DTSTART;TZID=America/New_York:20190818T100000
DTEND;TZID=America/New_York:20190818T160000
DTSTAMP:20260421T073117
CREATED:20190719T204944Z
LAST-MODIFIED:20190719T204944Z
UID:10002448-1566122400-1566144000@preventsubstancemisuse.org
SUMMARY:Praise in the Park
DESCRIPTION:
URL:https://preventsubstancemisuse.org/event/praise-in-the-park/
LOCATION:7409 A Baltimore Annapolis Blvd.\, 7409 A Baltimore Annapolis Blvd.\, Glen Burnie\, MD\, 21061\, United States
CATEGORIES:Northern Lights / North County
GEO:39.170622;-76.627178
X-APPLE-STRUCTURED-LOCATION;VALUE=URI;X-ADDRESS=7409 A Baltimore Annapolis Blvd. 7409 A Baltimore Annapolis Blvd. Glen Burnie MD 21061 United States;X-APPLE-RADIUS=500;X-TITLE=7409 A Baltimore Annapolis Blvd.:geo:-76.627178,39.170622
END:VEVENT
END:VCALENDAR